BEGIN:VCALENDAR
VERSION:2.0
PRODID:-//Charm City Wine School - ECPv6.15.20//NONSGML v1.0//EN
CALSCALE:GREGORIAN
METHOD:PUBLISH
X-WR-CALNAME:Charm City Wine School
X-ORIGINAL-URL:https://www.charmcitywineschool.com
X-WR-CALDESC:Events for Charm City Wine School
REFRESH-INTERVAL;VALUE=DURATION:PT1H
X-Robots-Tag:noindex
X-PUBLISHED-TTL:PT1H
BEGIN:VTIMEZONE
TZID:America/New_York
BEGIN:DAYLIGHT
TZOFFSETFROM:-0500
TZOFFSETTO:-0400
TZNAME:EDT
DTSTART:20230312T070000
END:DAYLIGHT
BEGIN:STANDARD
TZOFFSETFROM:-0400
TZOFFSETTO:-0500
TZNAME:EST
DTSTART:20231105T060000
END:STANDARD
BEGIN:DAYLIGHT
TZOFFSETFROM:-0500
TZOFFSETTO:-0400
TZNAME:EDT
DTSTART:20240310T070000
END:DAYLIGHT
BEGIN:STANDARD
TZOFFSETFROM:-0400
TZOFFSETTO:-0500
TZNAME:EST
DTSTART:20241103T060000
END:STANDARD
BEGIN:DAYLIGHT
TZOFFSETFROM:-0500
TZOFFSETTO:-0400
TZNAME:EDT
DTSTART:20250309T070000
END:DAYLIGHT
BEGIN:STANDARD
TZOFFSETFROM:-0400
TZOFFSETTO:-0500
TZNAME:EST
DTSTART:20251102T060000
END:STANDARD
END:VTIMEZONE
BEGIN:VEVENT
DTSTART;TZID=America/New_York:20241018T183000
DTEND;TZID=America/New_York:20241018T200000
DTSTAMP:20260424T173446
CREATED:20240703T202950Z
LAST-MODIFIED:20240706T213350Z
UID:10000086-1729276200-1729281600@www.charmcitywineschool.com
SUMMARY:Greek Wines
DESCRIPTION:Wine 101: Greek Wines\, Yeah\, They’re All Greek to Me! \nThere are a lot of great wines from around the world and Greece is no different.  We will explore some different varietals that you may not have heard of that are unbelievable values and will sure to be a hit with you\, your friends\, and family.
URL:https://www.charmcitywineschool.com/calendar/greek-wines/
LOCATION:Charm City Wine School\, 6505 York Road\, Towson\, MD\, 21212\, United States
CATEGORIES:Tastings
ATTACH;FMTTYPE=image/jpeg:https://www.charmcitywineschool.com/wp-content/uploads/2024/07/Wine-and-Greek-Statues.jpeg
ORGANIZER;CN="Tim O'Hare":MAILTO:tim@charmcitywineschool.com
END:VEVENT
END:VCALENDAR