BEGIN:VCALENDAR
VERSION:2.0
PRODID:-//Charm City Wine School - ECPv6.15.20//NONSGML v1.0//EN
CALSCALE:GREGORIAN
METHOD:PUBLISH
X-WR-CALNAME:Charm City Wine School
X-ORIGINAL-URL:https://www.charmcitywineschool.com
X-WR-CALDESC:Events for Charm City Wine School
REFRESH-INTERVAL;VALUE=DURATION:PT1H
X-Robots-Tag:noindex
X-PUBLISHED-TTL:PT1H
BEGIN:VTIMEZONE
TZID:America/New_York
BEGIN:DAYLIGHT
TZOFFSETFROM:-0500
TZOFFSETTO:-0400
TZNAME:EDT
DTSTART:20220313T070000
END:DAYLIGHT
BEGIN:STANDARD
TZOFFSETFROM:-0400
TZOFFSETTO:-0500
TZNAME:EST
DTSTART:20221106T060000
END:STANDARD
BEGIN:DAYLIGHT
TZOFFSETFROM:-0500
TZOFFSETTO:-0400
TZNAME:EDT
DTSTART:20230312T070000
END:DAYLIGHT
BEGIN:STANDARD
TZOFFSETFROM:-0400
TZOFFSETTO:-0500
TZNAME:EST
DTSTART:20231105T060000
END:STANDARD
BEGIN:DAYLIGHT
TZOFFSETFROM:-0500
TZOFFSETTO:-0400
TZNAME:EDT
DTSTART:20240310T070000
END:DAYLIGHT
BEGIN:STANDARD
TZOFFSETFROM:-0400
TZOFFSETTO:-0500
TZNAME:EST
DTSTART:20241103T060000
END:STANDARD
BEGIN:DAYLIGHT
TZOFFSETFROM:-0500
TZOFFSETTO:-0400
TZNAME:EDT
DTSTART:20250309T070000
END:DAYLIGHT
BEGIN:STANDARD
TZOFFSETFROM:-0400
TZOFFSETTO:-0500
TZNAME:EST
DTSTART:20251102T060000
END:STANDARD
END:VTIMEZONE
BEGIN:VEVENT
DTSTART;TZID=America/New_York:20240412T183000
DTEND;TZID=America/New_York:20240412T200000
DTSTAMP:20260424T031541
CREATED:20240223T025529Z
LAST-MODIFIED:20240410T191939Z
UID:10000061-1712946600-1712952000@www.charmcitywineschool.com
SUMMARY:Anything but Cabernet
DESCRIPTION:Wine 101:  Anything But Cabernet \nThis class is SOLD OUT\, but there are more options before the end of this year – Click to see the others! \nThere are a lot of great wines from around the world and we will explore some different varietals that you may not have heard of that are unbelievable values and will sure to be a hit with you\, your friends\, and family. \nThis Wine 101 class will be held at the School on Friday April 12th\, 2024 at 6:30 – 8:00 PM  \nThe Charm City Wine School is now offering Wine 101 Classes that spans the vino globe. These fun & informative classes feature 3 to 4 wines featuring New World and Old-World Wines. Classes are $35 per person and you will enjoy & experience wines from the most important wine regions.  Each class is 1½ hour in duration and light hors d’oeuvres are served along with a complimentary glass of sparkling wine to get things started.
URL:https://www.charmcitywineschool.com/calendar/anything-but-cabernet/
LOCATION:Charm City Wine School\, 6505 York Road\, Towson\, MD\, 21212\, United States
CATEGORIES:Tastings
ATTACH;FMTTYPE=image/jpeg:https://www.charmcitywineschool.com/wp-content/uploads/2022/10/Flight-of-Wine-i-n-Glasses.jpg
ORGANIZER;CN="Tim O'Hare":MAILTO:tim@charmcitywineschool.com
END:VEVENT
BEGIN:VEVENT
DTSTART;TZID=America/New_York:20240314T183000
DTEND;TZID=America/New_York:20240314T200000
DTSTAMP:20260424T031541
CREATED:20231214T180537Z
LAST-MODIFIED:20231214T180537Z
UID:10000053-1710441000-1710446400@www.charmcitywineschool.com
SUMMARY:Get Your Irish Up!
DESCRIPTION:Wine 101: Get Your Irish Up! \nCome join us as we celebrate St. Patrick’s Day with an Irish Whiskey Tasting. Tim O’Hare will deliver a fun presentation where he will talk about the history of Ireland’s patron saint and how he is commemorated around the world. Tim will also chat about what makes Irish Whiskey so special and why it’s become the spirit of choice for many of us. Tim has selected three Irish whiskeys you’re sure to embrace and enjoy… \nRemember\, there are only two people in the world those that are fortunate to be Irish and those poor souls who want to be Irish… Either way\, everyone is Irish on St. Patrick’s Day so don’t miss the fun and join us!!! \nErin Go Braugh!
URL:https://www.charmcitywineschool.com/calendar/get-your-irish-up/
LOCATION:Charm City Wine School\, 6505 York Road\, Towson\, MD\, 21212\, United States
CATEGORIES:Tastings
ATTACH;FMTTYPE=image/jpeg:https://www.charmcitywineschool.com/wp-content/uploads/2023/12/Irish-Composite-1.jpg
ORGANIZER;CN="Tim O'Hare":MAILTO:tim@charmcitywineschool.com
END:VEVENT
BEGIN:VEVENT
DTSTART;TZID=America/New_York:20240308T183000
DTEND;TZID=America/New_York:20240308T200000
DTSTAMP:20260424T031541
CREATED:20231211T232140Z
LAST-MODIFIED:20240307T175243Z
UID:10000048-1709922600-1709928000@www.charmcitywineschool.com
SUMMARY:National Riesling Day
DESCRIPTION:Wine 101: National Riesling Day \nThis class is SOLD OUT\, but there are more options before the end of this year – Click to see the others! \nWe will explore why Riesling has become a favorite with Sommeliers around the world… Thirty years ago this varietal originally from Germany was cloyingly sweet… However\, today it’s much drier and food friendly. Join us as we discover the several styles of Riesling from dry to off dry and sweet!
URL:https://www.charmcitywineschool.com/calendar/national-riesling-day/
LOCATION:Charm City Wine School\, 6505 York Road\, Towson\, MD\, 21212\, United States
CATEGORIES:Tastings
ATTACH;FMTTYPE=image/jpeg:https://www.charmcitywineschool.com/wp-content/uploads/2023/12/Best-glass-for-Riesling.jpg
ORGANIZER;CN="Tim O'Hare":MAILTO:tim@charmcitywineschool.com
END:VEVENT
BEGIN:VEVENT
DTSTART;TZID=America/New_York:20240229T183000
DTEND;TZID=America/New_York:20240229T200000
DTSTAMP:20260424T031541
CREATED:20231214T180206Z
LAST-MODIFIED:20240127T143839Z
UID:10000052-1709231400-1709236800@www.charmcitywineschool.com
SUMMARY:You Had Me @ Merlot - SOLD OUT!
DESCRIPTION:Wine 101:  You Had Me @ Merlot \nThis class is SOLD OUT\, but there are more options before the end of this year – Click to see the others! \nWe will take a look at this much-maligned grape varietal; i.e.\, think of the Movie “Sideways” and look at places in the world where this grape grows best. It is the Purrrrrrrrfect blending partner for Cabernet Sauvignon\, but is also right at home as a 100% varietal. Also\, in many cases\, it is ready to drink earlier than Cabernet Sauvignon and we have some great values for you to taste.
URL:https://www.charmcitywineschool.com/calendar/you-had-me-merlot/
LOCATION:Charm City Wine School\, 6505 York Road\, Towson\, MD\, 21212\, United States
CATEGORIES:Tastings
ATTACH;FMTTYPE=image/png:https://www.charmcitywineschool.com/wp-content/uploads/2023/10/Red-wine-all-4-1.png
ORGANIZER;CN="Tim O'Hare":MAILTO:tim@charmcitywineschool.com
END:VEVENT
BEGIN:VEVENT
DTSTART;TZID=America/New_York:20240209T183000
DTEND;TZID=America/New_York:20240209T200000
DTSTAMP:20260424T031541
CREATED:20231211T233008Z
LAST-MODIFIED:20240110T230507Z
UID:10000049-1707503400-1707508800@www.charmcitywineschool.com
SUMMARY:Super Pairings  - - SOLD OUT!
DESCRIPTION:Wine 101: Super Pairings \nThis class is SOLD OUT\, but there are more options before the end of this year – Click to see the others! \nSo you thought the Super Bowl was only about beer\, think again. We have some wines that are going to pair with traditional snacks like potato chips\, avocado dips and chicken wings… Check out this class as we will open your eyes to the possibilities of how three simple wines can change from the boring beer and brats to Swirl & Cheer!
URL:https://www.charmcitywineschool.com/calendar/super-pairings/
LOCATION:Charm City Wine School\, 6505 York Road\, Towson\, MD\, 21212\, United States
CATEGORIES:Tastings
ATTACH;FMTTYPE=image/jpeg:https://www.charmcitywineschool.com/wp-content/uploads/2022/10/Wine-Tastings-Baltimore-MD.jpg
ORGANIZER;CN="Tim O'Hare":MAILTO:tim@charmcitywineschool.com
END:VEVENT
BEGIN:VEVENT
DTSTART;TZID=America/New_York:20240129T170000
DTEND;TZID=America/New_York:20240129T200000
DTSTAMP:20260424T031541
CREATED:20240103T150957Z
LAST-MODIFIED:20240104T142732Z
UID:10000054-1706547600-1706558400@www.charmcitywineschool.com
SUMMARY:Yanks vs Francs at St. Michaels
DESCRIPTION:Special Event: Wine Tasting & Dinner at The Fools Lantern \nJoin us @ The Fools Lantern in St. Michaels on January 29th from 5-8 PM for an exclusive wine tasting experience! Immerse yourself in the world of wine as we compare and contrast the captivating flavors of California and France. \nUnder the guidance of Tim O’Hare\, Certified Sommelier & and owner of the Charm City Wine School\, you’ll embark on a tasting adventure featuring two exquisite Chardonnays and two bold Cabernet Sauvignons. To complement the tasting\, we’ve prepared a delectable menu that will tantalize your taste buds. To finish the night\, you’ll be able to choose a 6 oz. glass of your favorite wine from the tasting. \nLimited seats at $75 per person are available\, so reserve your spot today! Click the link below to go directly to this awesome event. All Fools Lantern tastings can be found under Events.    Click Here to Register
URL:https://www.charmcitywineschool.com/calendar/yanks-vs-francs-at-st-michaels/
LOCATION:Fools Lantern\, St Michaels\, 310 South Talbot Street\, Saint Michaels\, MD\, 21663\, United States
CATEGORIES:Dinner & Tasting,Tastings
ATTACH;FMTTYPE=image/jpeg:https://www.charmcitywineschool.com/wp-content/uploads/2019/08/wine-and-food-pairing.jpg
ORGANIZER;CN="Tim O'Hare":MAILTO:tim@charmcitywineschool.com
END:VEVENT
BEGIN:VEVENT
DTSTART;TZID=America/New_York:20240126T183000
DTEND;TZID=America/New_York:20240126T200000
DTSTAMP:20260424T031541
CREATED:20231211T233525Z
LAST-MODIFIED:20240107T175012Z
UID:10000050-1706293800-1706299200@www.charmcitywineschool.com
SUMMARY:Sip\, Snack\, and Savor - SOLD OUT!
DESCRIPTION:Wine 101: Sip\, Snack\, and Savor \nTOO LATE\, SOLD OUT! Expect to see this class format again\, it’s popular – and FUN! \nIn this class\, we will taste a Sparkling wine\, a Sauvignon Blanc\, and a Fortified wine and then pair them with an appetizer that will complement each other. This session will elevate your game with the takeaways you’ll have when friends come over that will both entertain and wow them.
URL:https://www.charmcitywineschool.com/calendar/sip-snack-and-savor/
LOCATION:Charm City Wine School\, 6505 York Road\, Towson\, MD\, 21212\, United States
CATEGORIES:Tastings
ATTACH;FMTTYPE=image/png:https://www.charmcitywineschool.com/wp-content/uploads/2023/10/White-Wine-all-4-1.png
ORGANIZER;CN="Tim O'Hare":MAILTO:tim@charmcitywineschool.com
END:VEVENT
BEGIN:VEVENT
DTSTART;TZID=America/New_York:20240104T183000
DTEND;TZID=America/New_York:20240104T200000
DTSTAMP:20260424T031541
CREATED:20231214T175937Z
LAST-MODIFIED:20231227T165549Z
UID:10000051-1704393000-1704398400@www.charmcitywineschool.com
SUMMARY:National Bittersweet Chocolate Day – Yay!
DESCRIPTION:Wine 101: National Bittersweet Chocolate Day – Yay! \nThis class has been POSTPONED\, but there are more options before the end of this year – Click to see the others! \nIn this class\, we will offer a wine and chocolate-tasting experience that is a fun theme for girls’ nights out\, bridal showers\, birthday parties\, retirement parties\, and even business events. This pairing event will give you a chance to enjoy something new while learning about how different chocolates pair with particular styles of wine. This program will certainly leave you with a smile on your face and something you will talk about with your friends and for planning your next fun at-home gathering event.
URL:https://www.charmcitywineschool.com/calendar/national-bittersweet-chocolate-day-yay/
LOCATION:Charm City Wine School\, 6505 York Road\, Towson\, MD\, 21212\, United States
CATEGORIES:Tastings
ATTACH;FMTTYPE=image/jpeg:https://www.charmcitywineschool.com/wp-content/uploads/2023/12/Wine-and-chocolate-Composite.jpg
ORGANIZER;CN="Tim O'Hare":MAILTO:tim@charmcitywineschool.com
END:VEVENT
BEGIN:VEVENT
DTSTART;TZID=America/New_York:20231228T183000
DTEND;TZID=America/New_York:20231228T200000
DTSTAMP:20260424T031541
CREATED:20231001T162346Z
LAST-MODIFIED:20231003T154104Z
UID:10000017-1703788200-1703793600@www.charmcitywineschool.com
SUMMARY:Wine 101:  Fab Four Reds
DESCRIPTION:The 4 Red Wines You Need To Try If You Want To Learn About Red Wine \nWe have all been beginners in wine at some point\, and whether you’ve decided you’d like to get into red as a newbie\, or you’ve been drinking one specific red for years and now want to branch out\, in order to figure out what you like\, it’s important to grasp an overview of the different styles that are out there. But it isn’t likely that many of us will be able to taste the insane number of options available\, so we need to start with wines that give us a good representation of the wide spectrum of what’s available. \nDon’t worry\, we’ve done the hard work for you. These wines will take you on a journey to help you understand acidity\, tannin\, body\, and alcohol and in the end\, help you figure out how to talk about the red wine styles you like and the ones you don’t. In this class\, you will taste through Cabernet Sauvignon\, Pinot Noir\, Syrah\, and Zinfandel\, and in the end\, you will come away with a better idea of what makes these wines different\, and delicious.
URL:https://www.charmcitywineschool.com/calendar/wine-101-fab-four-reds/
LOCATION:Charm City Wine School\, 6505 York Road\, Towson\, MD\, 21212\, United States
CATEGORIES:Tastings
ATTACH;FMTTYPE=image/png:https://www.charmcitywineschool.com/wp-content/uploads/2023/10/Red-wine-all-4-1.png
ORGANIZER;CN="Tim O'Hare":MAILTO:tim@charmcitywineschool.com
END:VEVENT
BEGIN:VEVENT
DTSTART;TZID=America/New_York:20231215T183000
DTEND;TZID=America/New_York:20231215T200000
DTSTAMP:20260424T031541
CREATED:20231001T162143Z
LAST-MODIFIED:20231003T154520Z
UID:10000016-1702665000-1702670400@www.charmcitywineschool.com
SUMMARY:Wine 101:  Fab Four Whites
DESCRIPTION:Take it from us: There is a white wine that pairs perfectly with every course of your meal\, from appetizer to dessert. White wine is incredibly food-friendly\, and there are many other reasons to learn about the category. We will explore dry white wines\, sweet wine\, and challenge your preconceived notions about Chardonnay (also known as white Burgundy)\, we will find you an affordable bottle of Pinot Gris\, and go deeper into the many facets of Riesling (dry\, off-dry\, or sweet). \nOur class will deliver a fun presentation on popular white wines like Chardonnay\, Sauvignon Blanc\, Riesling\, and Pinot Grigio/Gris. We will also give you recommendations\, pairing tips\, and more.
URL:https://www.charmcitywineschool.com/calendar/wine-101-fab-four-whites/
LOCATION:Charm City Wine School\, 6505 York Road\, Towson\, MD\, 21212\, United States
CATEGORIES:Tastings
ATTACH;FMTTYPE=image/png:https://www.charmcitywineschool.com/wp-content/uploads/2023/10/White-Wine-all-4-1.png
ORGANIZER;CN="Tim O'Hare":MAILTO:tim@charmcitywineschool.com
END:VEVENT
BEGIN:VEVENT
DTSTART;TZID=America/New_York:20231130T183000
DTEND;TZID=America/New_York:20231130T200000
DTSTAMP:20260424T031541
CREATED:20231001T161939Z
LAST-MODIFIED:20231120T205723Z
UID:10000015-1701369000-1701374400@www.charmcitywineschool.com
SUMMARY:Wine 101: SOLD OUT!!  Sparkling Wines for the Holidays
DESCRIPTION:Bubbles & Nibbles \nSOLD OUT!  Please check other upcoming classes.  1st Quarter 2024 offerings to be posted later this week – stand by and then check them out! \nJoin us as we taste through 4 sparkling wines that we know you will enjoy… The lineup includes a Cava from Spain\, a Prosecco from Italy\, a Brut from California\, and an Asti from Italy. In this class\, we will travel through the regions that these sparklers hail from with a fun and descriptive history of each sparkling wine. \nYou will also taste these sparklers with some delicious snacks we have put together that will open your eyes to sparkling and food pairings that you can do at home for Oscar Night parties\, Movie Nights\, or having friends over for a fun evening. This class will sell out quickly…
URL:https://www.charmcitywineschool.com/calendar/wine-101-sparkling-wines-for-the-holidays/
LOCATION:Charm City Wine School\, 6505 York Road\, Towson\, MD\, 21212\, United States
CATEGORIES:Tastings
ATTACH;FMTTYPE=image/jpeg:https://www.charmcitywineschool.com/wp-content/uploads/2023/05/Sparkling-White.jpg
ORGANIZER;CN="Tim O'Hare":MAILTO:tim@charmcitywineschool.com
END:VEVENT
BEGIN:VEVENT
DTSTART;TZID=America/New_York:20231117T183000
DTEND;TZID=America/New_York:20231117T200000
DTSTAMP:20260424T031541
CREATED:20231001T161711Z
LAST-MODIFIED:20231031T045324Z
UID:10000014-1700245800-1700251200@www.charmcitywineschool.com
SUMMARY:Pop a Cork or Two on Thanksgiving!
DESCRIPTION:TOO LATE\, SOLD OUT! Expect to see this class format again\, it’s popular – and FUN! \nFour traditional Thanksgiving wines will be paired with flavored popcorn to simulate the tapestry of food\, colors\, and flavors on your Thanksgiving table. This fun and interactive program will help you identify the cause-and-effect relationship between wine and food. Participants will employ an open mind\, think about their expectations\, and learn to trust their palate. By the end of the evening\, you will be able to select the perfect wine to accompany your Thanksgiving dinner at home or even for future restaurant experiences.
URL:https://www.charmcitywineschool.com/calendar/pop-a-cork-or-two-on-thanksgiving/
LOCATION:Charm City Wine School\, 6505 York Road\, Towson\, MD\, 21212\, United States
CATEGORIES:Tastings
ATTACH;FMTTYPE=image/jpeg:https://www.charmcitywineschool.com/wp-content/uploads/2022/11/Wine-and-turkey-3-1.jpg
ORGANIZER;CN="Tim O'Hare":MAILTO:tim@charmcitywineschool.com
END:VEVENT
BEGIN:VEVENT
DTSTART;TZID=America/New_York:20231115T183000
DTEND;TZID=America/New_York:20231115T200000
DTSTAMP:20260424T031541
CREATED:20230910T173442Z
LAST-MODIFIED:20230910T173442Z
UID:10000013-1700073000-1700078400@www.charmcitywineschool.com
SUMMARY:National Zinfandel Day
DESCRIPTION:Details coming soon\, but registration is open TODAY!
URL:https://www.charmcitywineschool.com/calendar/national-zinfandel-day/
LOCATION:Charm City Wine School\, 6505 York Road\, Towson\, MD\, 21212\, United States
CATEGORIES:Tastings
ATTACH;FMTTYPE=image/jpeg:https://www.charmcitywineschool.com/wp-content/uploads/2023/05/Chard.jpg
ORGANIZER;CN="Tim O'Hare":MAILTO:tim@charmcitywineschool.com
END:VEVENT
BEGIN:VEVENT
DTSTART;TZID=America/New_York:20231025T183000
DTEND;TZID=America/New_York:20231025T200000
DTSTAMP:20260424T031541
CREATED:20230827T151322Z
LAST-MODIFIED:20230827T151322Z
UID:10000011-1698258600-1698264000@www.charmcitywineschool.com
SUMMARY:Wine 101: Which is Witch?
DESCRIPTION:Magic is brewing at Charm City Wine School! \n\nJoin us on Wednesday\, October 25th as we take a tour exploring and tasting wines from France and California to better understand the nuances between New World and Old World varietals.  This event is going to be a bewitchingly fun evening\, without any spells casting negative influence on your taste buds!
URL:https://www.charmcitywineschool.com/calendar/wine-101-which-is-witch/
LOCATION:Charm City Wine School\, 6505 York Road\, Towson\, MD\, 21212\, United States
CATEGORIES:Tastings
ATTACH;FMTTYPE=image/jpeg:https://www.charmcitywineschool.com/wp-content/uploads/2019/08/witch.jpg
ORGANIZER;CN="Tim O'Hare":MAILTO:tim@charmcitywineschool.com
END:VEVENT
BEGIN:VEVENT
DTSTART;TZID=America/New_York:20231020T183000
DTEND;TZID=America/New_York:20231020T200000
DTSTAMP:20260424T031541
CREATED:20230827T151859Z
LAST-MODIFIED:20231004T212148Z
UID:10000012-1697826600-1697832000@www.charmcitywineschool.com
SUMMARY:Wine 101: Which is Witch?
DESCRIPTION:Magic is brewing at Charm City Wine School! \n\nGood NEWS!  This class is SOLD OUT\, but Wednesday October 25th has seats available – Click to go and register!\n\nJoin us on Friday\, October 20th  as we take a tour exploring and tasting wines from France and California to better understand the nuances between New World and Old World varietals.  This event is going to be a bewitchingly fun evening\, without any spells casting negative influence on your taste buds!
URL:https://www.charmcitywineschool.com/calendar/wine-101-which-is-witch-2/
LOCATION:Charm City Wine School\, 6505 York Road\, Towson\, MD\, 21212\, United States
CATEGORIES:Tastings
ATTACH;FMTTYPE=image/jpeg:https://www.charmcitywineschool.com/wp-content/uploads/2019/08/witch.jpg
ORGANIZER;CN="Tim O'Hare":MAILTO:tim@charmcitywineschool.com
END:VEVENT
BEGIN:VEVENT
DTSTART;TZID=America/New_York:20231006T183000
DTEND;TZID=America/New_York:20231006T200000
DTSTAMP:20260424T031541
CREATED:20230806T205622Z
LAST-MODIFIED:20230928T195736Z
UID:10000006-1696617000-1696622400@www.charmcitywineschool.com
SUMMARY:Wine 101: Viva La France!
DESCRIPTION:It’s ON!  Come visit France at the Charm City Wine School and sample some great vintages!  In this fun class\, you will: \n\nArticulate important French wine terms\nIdentify the major wine-producing appellations of France\nIdentify significant wines and grape varieties\n\nEnjoy a Fun Friday Event!
URL:https://www.charmcitywineschool.com/calendar/wine-101-viva-la-france/
LOCATION:Charm City Wine School\, 6505 York Road\, Towson\, MD\, 21212\, United States
CATEGORIES:Tastings
ATTACH;FMTTYPE=image/jpeg:https://www.charmcitywineschool.com/wp-content/uploads/2020/09/vinyard-unsplash-scaled.jpg
ORGANIZER;CN="Tim O'Hare":MAILTO:tim@charmcitywineschool.com
END:VEVENT
BEGIN:VEVENT
DTSTART;TZID=America/New_York:20230920T183000
DTEND;TZID=America/New_York:20230920T200000
DTSTAMP:20260424T031541
CREATED:20230806T204015Z
LAST-MODIFIED:20230918T144507Z
UID:10000005-1695234600-1695240000@www.charmcitywineschool.com
SUMMARY:Wine 101:  Wines of Germany
DESCRIPTION:Hey\, this great class had to be POSTPONED.  It will be rescheduled and we appreciate your patience and understanding. \nThirty years ago\, if you asked a German winemaker about the style of his/her wines they would talk about their sweetness levels. However\, today if you asked his winemaker son/daughter about the style of wines they are producing they would talk about the dryness of them. \nYes\, much has changed since the last century\, and here is your chance to explore and taste German wines that offer excitement and value. This class is about more than Riesling… Attendees will enjoy 4 wines from the Mosel\, Rheingau\,\nPfalz\, and Nahe regions. It’s been said that German wine labels can be intimidating\, however\, they are also informative\, educational as they will list the producer\, vintage\, and region. Also\, German labels will state the quality level of the wine\, the grape\, the vineyard\, and style. \nCome join us as we look at the wines of Germany from a different perspective and curiosity.
URL:https://www.charmcitywineschool.com/calendar/wine-101-wines-of-germany/
LOCATION:Charm City Wine School\, 6505 York Road\, Towson\, MD\, 21212\, United States
CATEGORIES:Tastings
ATTACH;FMTTYPE=image/jpeg:https://www.charmcitywineschool.com/wp-content/uploads/2022/10/Italian-Vineyard.jpg
ORGANIZER;CN="Tim O'Hare":MAILTO:tim@charmcitywineschool.com
END:VEVENT
BEGIN:VEVENT
DTSTART;TZID=America/New_York:20230906T183000
DTEND;TZID=America/New_York:20230906T200000
DTSTAMP:20260424T031541
CREATED:20230806T202001Z
LAST-MODIFIED:20230806T203119Z
UID:10000004-1694025000-1694030400@www.charmcitywineschool.com
SUMMARY:Wine 101:  Viva Italia!
DESCRIPTION:Come visit Italy at Charm City Wine School and sample some great vintages!  In this fun class\, you will: \n\nArticulate important Italian wine terms\nIdentify the major wine-producing appellations of Italy\nIdentify significant wines and grape varieties\n\nEnjoy a Wine Down Wednesday Event!
URL:https://www.charmcitywineschool.com/calendar/wine-101-viva-italia/
LOCATION:Charm City Wine School\, 6505 York Road\, Towson\, MD\, 21212\, United States
CATEGORIES:Tastings
ATTACH;FMTTYPE=image/jpeg:https://www.charmcitywineschool.com/wp-content/uploads/2021/01/vinyard.jpg
ORGANIZER;CN="Tim O'Hare":MAILTO:tim@charmcitywineschool.com
END:VEVENT
BEGIN:VEVENT
DTSTART;TZID=America/New_York:20230823T183000
DTEND;TZID=America/New_York:20230823T200000
DTSTAMP:20260424T031541
CREATED:20230806T192942Z
LAST-MODIFIED:20230806T192942Z
UID:10000002-1692815400-1692820800@www.charmcitywineschool.com
SUMMARY:Wine 101: Explore The Wines of Spain In the Fast Lane
DESCRIPTION:Spanish wine is the most popular on the planet\, according to the latest international export figures\, but few of the country’s vineyard owners will raise a glass to that news;  on average their vintages fetch less than a third of the price of those sold abroad by France. Spain is also the world’s second-largest exporter of wine in volume and third\, in value. \nWe will taste 4 wines that will grow your appreciation of these Spanish treasures and also show you what you’ve been missing from one of the world’s best-kept secrets.
URL:https://www.charmcitywineschool.com/calendar/wine-101-explore-the-wines-of-spain-in-the-fast-lane/
LOCATION:Charm City Wine School\, 6505 York Road\, Towson\, MD\, 21212\, United States
CATEGORIES:Tastings
ATTACH;FMTTYPE=image/jpeg:https://www.charmcitywineschool.com/wp-content/uploads/2022/10/Italian-Vineyard.jpg
ORGANIZER;CN="Tim O'Hare":MAILTO:tim@charmcitywineschool.com
END:VEVENT
BEGIN:VEVENT
DTSTART;TZID=America/New_York:20230811T183000
DTEND;TZID=America/New_York:20230811T200000
DTSTAMP:20260424T031541
CREATED:20230806T193749Z
LAST-MODIFIED:20230809T153154Z
UID:10000003-1691778600-1691784000@www.charmcitywineschool.com
SUMMARY:Wine 101: Sommelier Confidential - SOLD OUT!
DESCRIPTION:Want to know a little about the service & culture of wine so you can show your friends and guests what great wine skills you possess?  This class will give the basic sommelier blocking and tackling.  That is\, the knowledge for your confidence in any atmosphere whether it be at home with company\, or in a restaurant setting while entertaining the boss or customers. Here are just some of the topics that will be discussed in this class along with a tasting of 4 wines: \nSommelier Secrets Topics:\n1. Wine & Food Pairing\n2. Wine Temperatures\n3. Decanting\n4. Sabering\n5. Glassware\n6. Reading a Wine List\n7. Wine Tasting Order\n8. Systematic Approach to Tasting\n9. Aromatic Fanatics\n10. Know the 5 S’s\n11. Wine Jargon \nSo\, please join us as this will be a fun class with lots of interaction and engagement!
URL:https://www.charmcitywineschool.com/calendar/https-www-charmcitywineschool-com-wdw-sommelier-confidential/
LOCATION:Charm City Wine School\, 6505 York Road\, Towson\, MD\, 21212\, United States
CATEGORIES:Tastings
ATTACH;FMTTYPE=image/jpeg:https://www.charmcitywineschool.com/wp-content/uploads/2023/03/Cork-Dork.jpg
ORGANIZER;CN="Tim O'Hare":MAILTO:tim@charmcitywineschool.com
END:VEVENT
END:VCALENDAR