BEGIN:VCALENDAR
VERSION:2.0
PRODID:-//Charm City Wine School - ECPv6.15.20//NONSGML v1.0//EN
CALSCALE:GREGORIAN
METHOD:PUBLISH
X-ORIGINAL-URL:https://www.charmcitywineschool.com
X-WR-CALDESC:Events for Charm City Wine School
REFRESH-INTERVAL;VALUE=DURATION:PT1H
X-Robots-Tag:noindex
X-PUBLISHED-TTL:PT1H
BEGIN:VTIMEZONE
TZID:America/New_York
BEGIN:DAYLIGHT
TZOFFSETFROM:-0500
TZOFFSETTO:-0400
TZNAME:EDT
DTSTART:20220313T070000
END:DAYLIGHT
BEGIN:STANDARD
TZOFFSETFROM:-0400
TZOFFSETTO:-0500
TZNAME:EST
DTSTART:20221106T060000
END:STANDARD
BEGIN:DAYLIGHT
TZOFFSETFROM:-0500
TZOFFSETTO:-0400
TZNAME:EDT
DTSTART:20230312T070000
END:DAYLIGHT
BEGIN:STANDARD
TZOFFSETFROM:-0400
TZOFFSETTO:-0500
TZNAME:EST
DTSTART:20231105T060000
END:STANDARD
BEGIN:DAYLIGHT
TZOFFSETFROM:-0500
TZOFFSETTO:-0400
TZNAME:EDT
DTSTART:20240310T070000
END:DAYLIGHT
BEGIN:STANDARD
TZOFFSETFROM:-0400
TZOFFSETTO:-0500
TZNAME:EST
DTSTART:20241103T060000
END:STANDARD
BEGIN:DAYLIGHT
TZOFFSETFROM:-0500
TZOFFSETTO:-0400
TZNAME:EDT
DTSTART:20250309T070000
END:DAYLIGHT
BEGIN:STANDARD
TZOFFSETFROM:-0400
TZOFFSETTO:-0500
TZNAME:EST
DTSTART:20251102T060000
END:STANDARD
END:VTIMEZONE
BEGIN:VEVENT
DTSTART;TZID=America/New_York:20241116T090000
DTEND;TZID=America/New_York:20241116T140000
DTSTAMP:20260423T223235
CREATED:20240702T182126Z
LAST-MODIFIED:20240702T182126Z
UID:10000080-1731747600-1731765600@www.charmcitywineschool.com
SUMMARY:TiPS 11/16/24
DESCRIPTION:TiPS Qualification Aims\nProven effective by third-party studies\, TiPS is a skills-based\, 100% live responsible alcohol training and certification program that is designed to prevent intoxication\, underage drinking\, and drunk driving by enhancing the fundamental “people skills” of servers\, sellers and consumers of alcohol. TiPS gives individuals the knowledge and confidence they need to recognize potential alcohol-related problems and intervene to prevent alcohol-related tragedies.
URL:https://www.charmcitywineschool.com/calendar/tips-11-16-24/
LOCATION:Charm City Wine School\, 6505 York Road\, Towson\, MD\, 21212\, United States
CATEGORIES:TiPS
ATTACH;FMTTYPE=image/jpeg:https://www.charmcitywineschool.com/wp-content/uploads/2022/10/Maryland-Training-for-Intervention-ProcedureS.jpg
ORGANIZER;CN="Tim O'Hare":MAILTO:tim@charmcitywineschool.com
END:VEVENT
BEGIN:VEVENT
DTSTART;TZID=America/New_York:20241012T090000
DTEND;TZID=America/New_York:20241012T140000
DTSTAMP:20260423T223235
CREATED:20240702T181852Z
LAST-MODIFIED:20240702T181937Z
UID:10000079-1728723600-1728741600@www.charmcitywineschool.com
SUMMARY:TiPS 10/12/24
DESCRIPTION:TiPS Qualification Aims\nProven effective by third-party studies\, TiPS is a skills-based\, 100% live responsible alcohol training and certification program that is designed to prevent intoxication\, underage drinking\, and drunk driving by enhancing the fundamental “people skills” of servers\, sellers and consumers of alcohol. TiPS gives individuals the knowledge and confidence they need to recognize potential alcohol-related problems and intervene to prevent alcohol-related tragedies.
URL:https://www.charmcitywineschool.com/calendar/tips-10-12-24/
LOCATION:Charm City Wine School\, 6505 York Road\, Towson\, MD\, 21212\, United States
CATEGORIES:TiPS
ATTACH;FMTTYPE=image/jpeg:https://www.charmcitywineschool.com/wp-content/uploads/2022/10/Maryland-Training-for-Intervention-ProcedureS.jpg
ORGANIZER;CN="Tim O'Hare":MAILTO:tim@charmcitywineschool.com
END:VEVENT
BEGIN:VEVENT
DTSTART;TZID=America/New_York:20241001T090000
DTEND;TZID=America/New_York:20241001T140000
DTSTAMP:20260423T223235
CREATED:20240923T152440Z
LAST-MODIFIED:20240923T152440Z
UID:10000103-1727773200-1727791200@www.charmcitywineschool.com
SUMMARY:TiPS 10/1/24
DESCRIPTION:TiPS Qualification Aims\nProven effective by third-party studies\, TiPS is a skills-based\, 100% live responsible alcohol training and certification program that is designed to prevent intoxication\, underage drinking\, and drunk driving by enhancing the fundamental “people skills” of servers\, sellers and consumers of alcohol. TiPS gives individuals the knowledge and confidence they need to recognize potential alcohol-related problems and intervene to prevent alcohol-related tragedies.
URL:https://www.charmcitywineschool.com/calendar/tips-10-1-24/
LOCATION:Charm City Wine School\, 6505 York Road\, Towson\, MD\, 21212\, United States
CATEGORIES:TiPS
ATTACH;FMTTYPE=image/jpeg:https://www.charmcitywineschool.com/wp-content/uploads/2022/10/Maryland-Training-for-Intervention-ProcedureS.jpg
ORGANIZER;CN="Tim O'Hare":MAILTO:tim@charmcitywineschool.com
END:VEVENT
BEGIN:VEVENT
DTSTART;TZID=America/New_York:20240909T090000
DTEND;TZID=America/New_York:20240909T140000
DTSTAMP:20260423T223235
CREATED:20240309T132931Z
LAST-MODIFIED:20240628T004851Z
UID:10000073-1725872400-1725890400@www.charmcitywineschool.com
SUMMARY:TiPS 9/9/24
DESCRIPTION:TiPS Qualification Aims\nProven effective by third-party studies\, TiPS is a skills-based\, 100% live responsible alcohol training and certification program that is designed to prevent intoxication\, underage drinking\, and drunk driving by enhancing the fundamental “people skills” of servers\, sellers and consumers of alcohol. TiPS gives individuals the knowledge and confidence they need to recognize potential alcohol-related problems and intervene to prevent alcohol-related tragedies.
URL:https://www.charmcitywineschool.com/calendar/tips-9-9-24/
LOCATION:Charm City Wine School\, 6505 York Road\, Towson\, MD\, 21212\, United States
CATEGORIES:TiPS
ATTACH;FMTTYPE=image/jpeg:https://www.charmcitywineschool.com/wp-content/uploads/2022/10/Maryland-Training-for-Intervention-ProcedureS.jpg
ORGANIZER;CN="Tim O'Hare":MAILTO:tim@charmcitywineschool.com
END:VEVENT
BEGIN:VEVENT
DTSTART;TZID=America/New_York:20240812T090000
DTEND;TZID=America/New_York:20240812T140000
DTSTAMP:20260423T223235
CREATED:20240309T132736Z
LAST-MODIFIED:20240628T004934Z
UID:10000072-1723453200-1723471200@www.charmcitywineschool.com
SUMMARY:TiPS 8/12/24
DESCRIPTION:TiPS Qualification Aims\nProven effective by third-party studies\, TiPS is a skills-based\, 100% live responsible alcohol training and certification program that is designed to prevent intoxication\, underage drinking\, and drunk driving by enhancing the fundamental “people skills” of servers\, sellers and consumers of alcohol. TiPS gives individuals the knowledge and confidence they need to recognize potential alcohol-related problems and intervene to prevent alcohol-related tragedies.
URL:https://www.charmcitywineschool.com/calendar/tips-8-12-24/
LOCATION:Charm City Wine School\, 6505 York Road\, Towson\, MD\, 21212\, United States
CATEGORIES:TiPS
ATTACH;FMTTYPE=image/jpeg:https://www.charmcitywineschool.com/wp-content/uploads/2022/10/Maryland-Training-for-Intervention-ProcedureS.jpg
ORGANIZER;CN="Tim O'Hare":MAILTO:tim@charmcitywineschool.com
END:VEVENT
BEGIN:VEVENT
DTSTART;TZID=America/New_York:20240715T093000
DTEND;TZID=America/New_York:20240715T140000
DTSTAMP:20260423T223235
CREATED:20240309T132542Z
LAST-MODIFIED:20240628T005006Z
UID:10000071-1721035800-1721052000@www.charmcitywineschool.com
SUMMARY:TiPS 7/15/24
DESCRIPTION:TiPS Qualification Aims\nProven effective by third-party studies\, TiPS is a skills-based\, 100% live responsible alcohol training and certification program that is designed to prevent intoxication\, underage drinking\, and drunk driving by enhancing the fundamental “people skills” of servers\, sellers and consumers of alcohol. TiPS gives individuals the knowledge and confidence they need to recognize potential alcohol-related problems and intervene to prevent alcohol-related tragedies.
URL:https://www.charmcitywineschool.com/calendar/tips-7-15-24/
LOCATION:Charm City Wine School\, 6505 York Road\, Towson\, MD\, 21212\, United States
CATEGORIES:TiPS
ATTACH;FMTTYPE=image/jpeg:https://www.charmcitywineschool.com/wp-content/uploads/2022/10/Maryland-Training-for-Intervention-ProcedureS.jpg
ORGANIZER;CN="Tim O'Hare":MAILTO:tim@charmcitywineschool.com
END:VEVENT
BEGIN:VEVENT
DTSTART;TZID=America/New_York:20240603T090000
DTEND;TZID=America/New_York:20240603T140000
DTSTAMP:20260423T223235
CREATED:20240309T131917Z
LAST-MODIFIED:20240326T151747Z
UID:10000069-1717405200-1717423200@www.charmcitywineschool.com
SUMMARY:TiPS 6/3/24
DESCRIPTION:TiPS Qualification Aims\nProven effective by third-party studies\, TiPS is a skills-based\, 100% live responsible alcohol training and certification program that is designed to prevent intoxication\, underage drinking\, and drunk driving by enhancing the fundamental “people skills” of servers\, sellers and consumers of alcohol. TiPS gives individuals the knowledge and confidence they need to recognize potential alcohol-related problems and intervene to prevent alcohol-related tragedies.
URL:https://www.charmcitywineschool.com/calendar/tips-6-3-24/
LOCATION:Charm City Wine School\, 6505 York Road\, Towson\, MD\, 21212\, United States
CATEGORIES:TiPS
ATTACH;FMTTYPE=image/jpeg:https://www.charmcitywineschool.com/wp-content/uploads/2022/10/Maryland-Training-for-Intervention-ProcedureS.jpg
ORGANIZER;CN="Tim O'Hare":MAILTO:tim@charmcitywineschool.com
END:VEVENT
BEGIN:VEVENT
DTSTART;TZID=America/New_York:20240601T090000
DTEND;TZID=America/New_York:20240601T140000
DTSTAMP:20260423T223235
CREATED:20240323T220442Z
LAST-MODIFIED:20240326T151807Z
UID:10000075-1717232400-1717250400@www.charmcitywineschool.com
SUMMARY:TiPS  6/1/24
DESCRIPTION:TiPS Qualification Aims\nProven effective by third-party studies\, TiPS is a skills-based\, 100% live responsible alcohol training and certification program that is designed to prevent intoxication\, underage drinking\, and drunk driving by enhancing the fundamental “people skills” of servers\, sellers and consumers of alcohol. TiPS gives individuals the knowledge and confidence they need to recognize potential alcohol-related problems and intervene to prevent alcohol-related tragedies.
URL:https://www.charmcitywineschool.com/calendar/tips-6-1-24/
LOCATION:Charm City Wine School\, 6505 York Road\, Towson\, MD\, 21212\, United States
CATEGORIES:TiPS
ATTACH;FMTTYPE=image/jpeg:https://www.charmcitywineschool.com/wp-content/uploads/2022/10/Maryland-Training-for-Intervention-ProcedureS.jpg
ORGANIZER;CN="Tim O'Hare":MAILTO:tim@charmcitywineschool.com
END:VEVENT
BEGIN:VEVENT
DTSTART;TZID=America/New_York:20240512T090000
DTEND;TZID=America/New_York:20240512T140000
DTSTAMP:20260423T223235
CREATED:20240323T220630Z
LAST-MODIFIED:20240326T151824Z
UID:10000076-1715504400-1715522400@www.charmcitywineschool.com
SUMMARY:TiPS  5/12/24
DESCRIPTION:TiPS Qualification Aims\nProven effective by third-party studies\, TiPS is a skills-based\, 100% live responsible alcohol training and certification program that is designed to prevent intoxication\, underage drinking\, and drunk driving by enhancing the fundamental “people skills” of servers\, sellers and consumers of alcohol. TiPS gives individuals the knowledge and confidence they need to recognize potential alcohol-related problems and intervene to prevent alcohol-related tragedies.
URL:https://www.charmcitywineschool.com/calendar/tips-5-12-24/
LOCATION:Charm City Wine School\, 6505 York Road\, Towson\, MD\, 21212\, United States
CATEGORIES:TiPS
ATTACH;FMTTYPE=image/jpeg:https://www.charmcitywineschool.com/wp-content/uploads/2022/10/Maryland-Training-for-Intervention-ProcedureS.jpg
ORGANIZER;CN="Tim O'Hare":MAILTO:tim@charmcitywineschool.com
END:VEVENT
BEGIN:VEVENT
DTSTART;TZID=America/New_York:20240414T090000
DTEND;TZID=America/New_York:20240414T140000
DTSTAMP:20260423T223235
CREATED:20240323T220302Z
LAST-MODIFIED:20240326T151846Z
UID:10000074-1713085200-1713103200@www.charmcitywineschool.com
SUMMARY:TiPS  4/14/24
DESCRIPTION:TiPS Qualification Aims\nProven effective by third-party studies\, TiPS is a skills-based\, 100% live responsible alcohol training and certification program that is designed to prevent intoxication\, underage drinking\, and drunk driving by enhancing the fundamental “people skills” of servers\, sellers and consumers of alcohol. TiPS gives individuals the knowledge and confidence they need to recognize potential alcohol-related problems and intervene to prevent alcohol-related tragedies.
URL:https://www.charmcitywineschool.com/calendar/tips-4-14-24/
LOCATION:Charm City Wine School\, 6505 York Road\, Towson\, MD\, 21212\, United States
CATEGORIES:TiPS
ATTACH;FMTTYPE=image/jpeg:https://www.charmcitywineschool.com/wp-content/uploads/2022/10/Maryland-Training-for-Intervention-ProcedureS.jpg
ORGANIZER;CN="Tim O'Hare":MAILTO:tim@charmcitywineschool.com
END:VEVENT
BEGIN:VEVENT
DTSTART;TZID=America/New_York:20240410T090000
DTEND;TZID=America/New_York:20240410T140000
DTSTAMP:20260423T223235
CREATED:20240308T215157Z
LAST-MODIFIED:20240326T151905Z
UID:10000068-1712739600-1712757600@www.charmcitywineschool.com
SUMMARY:TiPS 4/10/24
DESCRIPTION:TiPS Qualification Aims\nProven effective by third-party studies\, TiPS is a skills-based\, 100% live responsible alcohol training and certification program that is designed to prevent intoxication\, underage drinking\, and drunk driving by enhancing the fundamental “people skills” of servers\, sellers and consumers of alcohol. TiPS gives individuals the knowledge and confidence they need to recognize potential alcohol-related problems and intervene to prevent alcohol-related tragedies.
URL:https://www.charmcitywineschool.com/calendar/tips-4-10-24/
LOCATION:Charm City Wine School\, 6505 York Road\, Towson\, MD\, 21212\, United States
CATEGORIES:TiPS
ATTACH;FMTTYPE=image/jpeg:https://www.charmcitywineschool.com/wp-content/uploads/2022/10/Maryland-Training-for-Intervention-ProcedureS.jpg
ORGANIZER;CN="Tim O'Hare":MAILTO:tim@charmcitywineschool.com
END:VEVENT
BEGIN:VEVENT
DTSTART;TZID=America/New_York:20240320T090000
DTEND;TZID=America/New_York:20240320T150000
DTSTAMP:20260423T223235
CREATED:20231122T003656Z
LAST-MODIFIED:20231122T003656Z
UID:10000020-1710925200-1710946800@www.charmcitywineschool.com
SUMMARY:TiPS  3/20/24
DESCRIPTION:TiPS Qualification Aims\nProven effective by third-party studies\, TiPS is a skills-based\, 100% live responsible alcohol training and certification program that is designed to prevent intoxication\, underage drinking\, and drunk driving by enhancing the fundamental “people skills” of servers\, sellers and consumers of alcohol. TiPS gives individuals the knowledge and confidence they need to recognize potential alcohol-related problems and intervene to prevent alcohol-related tragedies.
URL:https://www.charmcitywineschool.com/calendar/tips-3-20-24/
LOCATION:Charm City Wine School\, 6505 York Road\, Towson\, MD\, 21212\, United States
CATEGORIES:TiPS
ATTACH;FMTTYPE=image/jpeg:https://www.charmcitywineschool.com/wp-content/uploads/2022/10/Maryland-Training-for-Intervention-ProcedureS.jpg
ORGANIZER;CN="Tim O'Hare":MAILTO:tim@charmcitywineschool.com
END:VEVENT
BEGIN:VEVENT
DTSTART;TZID=America/New_York:20240309T000000
DTEND;TZID=America/New_York:20240309T000000
DTSTAMP:20260423T223235
CREATED:20240309T131159Z
LAST-MODIFIED:20240309T132049Z
UID:10000070-1709942400-1709942400@www.charmcitywineschool.com
SUMMARY:TiPS 5/13/24
DESCRIPTION:TiPS Qualification Aims\nProven effective by third-party studies\, TiPS is a skills-based\, 100% live responsible alcohol training and certification program that is designed to prevent intoxication\, underage drinking\, and drunk driving by enhancing the fundamental “people skills” of servers\, sellers and consumers of alcohol. TiPS gives individuals the knowledge and confidence they need to recognize potential alcohol-related problems and intervene to prevent alcohol-related tragedies.
URL:https://www.charmcitywineschool.com/calendar/tips-5-13-24/
LOCATION:Charm City Wine School\, 6505 York Road\, Towson\, MD\, 21212\, United States
CATEGORIES:TiPS
ATTACH;FMTTYPE=image/jpeg:https://www.charmcitywineschool.com/wp-content/uploads/2022/10/Maryland-Training-for-Intervention-ProcedureS.jpg
ORGANIZER;CN="Tim O'Hare":MAILTO:tim@charmcitywineschool.com
END:VEVENT
BEGIN:VEVENT
DTSTART;TZID=America/New_York:20240207T090000
DTEND;TZID=America/New_York:20240207T150000
DTSTAMP:20260423T223235
CREATED:20231122T003318Z
LAST-MODIFIED:20231122T003739Z
UID:10000019-1707296400-1707318000@www.charmcitywineschool.com
SUMMARY:TiPS  2/7/24
DESCRIPTION:TiPS Qualification Aims\nProven effective by third-party studies\, TiPS is a skills-based\, 100% live responsible alcohol training and certification program that is designed to prevent intoxication\, underage drinking\, and drunk driving by enhancing the fundamental “people skills” of servers\, sellers and consumers of alcohol. TiPS gives individuals the knowledge and confidence they need to recognize potential alcohol-related problems and intervene to prevent alcohol-related tragedies.
URL:https://www.charmcitywineschool.com/calendar/tips-2-7-24/
LOCATION:Charm City Wine School\, 6505 York Road\, Towson\, MD\, 21212\, United States
CATEGORIES:TiPS
ATTACH;FMTTYPE=image/jpeg:https://www.charmcitywineschool.com/wp-content/uploads/2022/10/Maryland-Training-for-Intervention-ProcedureS.jpg
ORGANIZER;CN="Tim O'Hare":MAILTO:tim@charmcitywineschool.com
END:VEVENT
BEGIN:VEVENT
DTSTART;TZID=America/New_York:20240117T090000
DTEND;TZID=America/New_York:20240117T150000
DTSTAMP:20260423T223235
CREATED:20231122T003105Z
LAST-MODIFIED:20231122T003817Z
UID:10000018-1705482000-1705503600@www.charmcitywineschool.com
SUMMARY:TiPS 1/17/24
DESCRIPTION:TiPS Qualification Aims\nProven effective by third-party studies\, TiPS is a skills-based\, 100% live responsible alcohol training and certification program that is designed to prevent intoxication\, underage drinking\, and drunk driving by enhancing the fundamental “people skills” of servers\, sellers and consumers of alcohol. TiPS gives individuals the knowledge and confidence they need to recognize potential alcohol-related problems and intervene to prevent alcohol-related tragedies.
URL:https://www.charmcitywineschool.com/calendar/tips-1-17-24/
LOCATION:Charm City Wine School\, 6505 York Road\, Towson\, MD\, 21212\, United States
CATEGORIES:TiPS
ATTACH;FMTTYPE=image/jpeg:https://www.charmcitywineschool.com/wp-content/uploads/2022/10/Maryland-Training-for-Intervention-ProcedureS.jpg
ORGANIZER;CN="Tim O'Hare":MAILTO:tim@charmcitywineschool.com
END:VEVENT
BEGIN:VEVENT
DTSTART;TZID=America/New_York:20231213T090000
DTEND;TZID=America/New_York:20231213T150000
DTSTAMP:20260423T223235
CREATED:20230827T144430Z
LAST-MODIFIED:20231104T130001Z
UID:10000010-1702458000-1702479600@www.charmcitywineschool.com
SUMMARY:TiPS 12/13/23
DESCRIPTION:TiPS Qualification Aims\nProven effective by third-party studies\, TiPS is a skills-based\, 100% live responsible alcohol training and certification program that is designed to prevent intoxication\, underage drinking\, and drunk driving by enhancing the fundamental “people skills” of servers\, sellers and consumers of alcohol. TiPS gives individuals the knowledge and confidence they need to recognize potential alcohol-related problems and intervene to prevent alcohol-related tragedies.
URL:https://www.charmcitywineschool.com/calendar/tips-12-13-23/
LOCATION:Charm City Wine School\, 6505 York Road\, Towson\, MD\, 21212\, United States
CATEGORIES:TiPS
ATTACH;FMTTYPE=image/jpeg:https://www.charmcitywineschool.com/wp-content/uploads/2022/10/Maryland-Training-for-Intervention-ProcedureS.jpg
ORGANIZER;CN="Tim O'Hare":MAILTO:tim@charmcitywineschool.com
END:VEVENT
BEGIN:VEVENT
DTSTART;TZID=America/New_York:20231129T090000
DTEND;TZID=America/New_York:20231129T150000
DTSTAMP:20260423T223235
CREATED:20230827T144142Z
LAST-MODIFIED:20231104T125918Z
UID:10000009-1701248400-1701270000@www.charmcitywineschool.com
SUMMARY:TiPS 11/29/23
DESCRIPTION:TiPS Qualification Aims\nProven effective by third-party studies\, TiPS is a skills-based\, 100% live responsible alcohol training and certification program that is designed to prevent intoxication\, underage drinking\, and drunk driving by enhancing the fundamental “people skills” of servers\, sellers and consumers of alcohol. TiPS gives individuals the knowledge and confidence they need to recognize potential alcohol-related problems and intervene to prevent alcohol-related tragedies.
URL:https://www.charmcitywineschool.com/calendar/tips-11-18-23/
LOCATION:Charm City Wine School\, 6505 York Road\, Towson\, MD\, 21212\, United States
CATEGORIES:TiPS
ATTACH;FMTTYPE=image/jpeg:https://www.charmcitywineschool.com/wp-content/uploads/2022/10/Maryland-Training-for-Intervention-ProcedureS.jpg
ORGANIZER;CN="Tim O'Hare":MAILTO:tim@charmcitywineschool.com
END:VEVENT
BEGIN:VEVENT
DTSTART;TZID=America/New_York:20231018T090000
DTEND;TZID=America/New_York:20231018T150000
DTSTAMP:20260423T223235
CREATED:20230817T153257Z
LAST-MODIFIED:20230827T143812Z
UID:10000008-1697619600-1697641200@www.charmcitywineschool.com
SUMMARY:TiPS 10/18/23
DESCRIPTION:TiPS Qualification Aims\nProven effective by third-party studies\, TiPS is a skills-based\, 100% live responsible alcohol training and certification program that is designed to prevent intoxication\, underage drinking\, and drunk driving by enhancing the fundamental “people skills” of servers\, sellers and consumers of alcohol. TiPS gives individuals the knowledge and confidence they need to recognize potential alcohol-related problems and intervene to prevent alcohol-related tragedies.
URL:https://www.charmcitywineschool.com/calendar/tips/
LOCATION:Charm City Wine School\, 6505 York Road\, Towson\, MD\, 21212\, United States
CATEGORIES:TiPS
ATTACH;FMTTYPE=image/jpeg:https://www.charmcitywineschool.com/wp-content/uploads/2022/10/Maryland-Training-for-Intervention-ProcedureS.jpg
ORGANIZER;CN="Tim O'Hare":MAILTO:tim@charmcitywineschool.com
END:VEVENT
END:VCALENDAR