BEGIN:VCALENDAR
VERSION:2.0
PRODID:-//Charm City Wine School - ECPv6.15.20//NONSGML v1.0//EN
CALSCALE:GREGORIAN
METHOD:PUBLISH
X-WR-CALNAME:Charm City Wine School
X-ORIGINAL-URL:https://www.charmcitywineschool.com
X-WR-CALDESC:Events for Charm City Wine School
REFRESH-INTERVAL;VALUE=DURATION:PT1H
X-Robots-Tag:noindex
X-PUBLISHED-TTL:PT1H
BEGIN:VTIMEZONE
TZID:America/New_York
BEGIN:DAYLIGHT
TZOFFSETFROM:-0500
TZOFFSETTO:-0400
TZNAME:EDT
DTSTART:20220313T070000
END:DAYLIGHT
BEGIN:STANDARD
TZOFFSETFROM:-0400
TZOFFSETTO:-0500
TZNAME:EST
DTSTART:20221106T060000
END:STANDARD
BEGIN:DAYLIGHT
TZOFFSETFROM:-0500
TZOFFSETTO:-0400
TZNAME:EDT
DTSTART:20230312T070000
END:DAYLIGHT
BEGIN:STANDARD
TZOFFSETFROM:-0400
TZOFFSETTO:-0500
TZNAME:EST
DTSTART:20231105T060000
END:STANDARD
BEGIN:DAYLIGHT
TZOFFSETFROM:-0500
TZOFFSETTO:-0400
TZNAME:EDT
DTSTART:20240310T070000
END:DAYLIGHT
BEGIN:STANDARD
TZOFFSETFROM:-0400
TZOFFSETTO:-0500
TZNAME:EST
DTSTART:20241103T060000
END:STANDARD
END:VTIMEZONE
BEGIN:VEVENT
DTSTART;TZID=America/New_York:20230823T183000
DTEND;TZID=America/New_York:20230823T200000
DTSTAMP:20260423T023234
CREATED:20230806T192942Z
LAST-MODIFIED:20230806T192942Z
UID:10000002-1692815400-1692820800@www.charmcitywineschool.com
SUMMARY:Wine 101: Explore The Wines of Spain In the Fast Lane
DESCRIPTION:Spanish wine is the most popular on the planet\, according to the latest international export figures\, but few of the country’s vineyard owners will raise a glass to that news;  on average their vintages fetch less than a third of the price of those sold abroad by France. Spain is also the world’s second-largest exporter of wine in volume and third\, in value. \nWe will taste 4 wines that will grow your appreciation of these Spanish treasures and also show you what you’ve been missing from one of the world’s best-kept secrets.
URL:https://www.charmcitywineschool.com/calendar/wine-101-explore-the-wines-of-spain-in-the-fast-lane/
LOCATION:Charm City Wine School\, 6505 York Road\, Towson\, MD\, 21212\, United States
CATEGORIES:Tastings
ATTACH;FMTTYPE=image/jpeg:https://www.charmcitywineschool.com/wp-content/uploads/2022/10/Italian-Vineyard.jpg
ORGANIZER;CN="Tim O'Hare":MAILTO:tim@charmcitywineschool.com
END:VEVENT
BEGIN:VEVENT
DTSTART;TZID=America/New_York:20230811T183000
DTEND;TZID=America/New_York:20230811T200000
DTSTAMP:20260423T023234
CREATED:20230806T193749Z
LAST-MODIFIED:20230809T153154Z
UID:10000003-1691778600-1691784000@www.charmcitywineschool.com
SUMMARY:Wine 101: Sommelier Confidential - SOLD OUT!
DESCRIPTION:Want to know a little about the service & culture of wine so you can show your friends and guests what great wine skills you possess?  This class will give the basic sommelier blocking and tackling.  That is\, the knowledge for your confidence in any atmosphere whether it be at home with company\, or in a restaurant setting while entertaining the boss or customers. Here are just some of the topics that will be discussed in this class along with a tasting of 4 wines: \nSommelier Secrets Topics:\n1. Wine & Food Pairing\n2. Wine Temperatures\n3. Decanting\n4. Sabering\n5. Glassware\n6. Reading a Wine List\n7. Wine Tasting Order\n8. Systematic Approach to Tasting\n9. Aromatic Fanatics\n10. Know the 5 S’s\n11. Wine Jargon \nSo\, please join us as this will be a fun class with lots of interaction and engagement!
URL:https://www.charmcitywineschool.com/calendar/https-www-charmcitywineschool-com-wdw-sommelier-confidential/
LOCATION:Charm City Wine School\, 6505 York Road\, Towson\, MD\, 21212\, United States
CATEGORIES:Tastings
ATTACH;FMTTYPE=image/jpeg:https://www.charmcitywineschool.com/wp-content/uploads/2023/03/Cork-Dork.jpg
ORGANIZER;CN="Tim O'Hare":MAILTO:tim@charmcitywineschool.com
END:VEVENT
BEGIN:VEVENT
DTSTART;TZID=America/New_York:20230809T183000
DTEND;TZID=America/New_York:20230809T200000
DTSTAMP:20260423T023234
CREATED:20230806T181746Z
LAST-MODIFIED:20230806T181746Z
UID:10000001-1691605800-1691611200@www.charmcitywineschool.com
SUMMARY:Wine 101: BBQ Wines and Finds for Summer 2023
DESCRIPTION:This summer we will deliver some great wines that won’t break the bank and will go great with your backyard BBQ. Also\, we have some fantastic ideas for your dry rubs\, marinades\, and glazes. Now\, we could go on forever discussing food and wine pairings — but let’s save that for another day. \nInstead\, let’s get down to why you’re really here. From reds to whites\, rosés\, and even sparkling wines\, we will taste 4 wines to pair with your summer BBQ for 2023.
URL:https://www.charmcitywineschool.com/calendar/wine-101-bbq-wines-and-finds-for-summer-2023/
LOCATION:Charm City Wine School\, 6505 York Road\, Towson\, MD\, 21212\, United States
ATTACH;FMTTYPE=image/jpeg:https://www.charmcitywineschool.com/wp-content/uploads/2022/10/Flight-of-Wine-i-n-Glasses.jpg
ORGANIZER;CN="Tim O'Hare":MAILTO:tim@charmcitywineschool.com
END:VEVENT
END:VCALENDAR