BEGIN:VCALENDAR
VERSION:2.0
PRODID:-//Charm City Wine School - ECPv6.15.20//NONSGML v1.0//EN
CALSCALE:GREGORIAN
METHOD:PUBLISH
X-ORIGINAL-URL:https://www.charmcitywineschool.com
X-WR-CALDESC:Events for Charm City Wine School
REFRESH-INTERVAL;VALUE=DURATION:PT1H
X-Robots-Tag:noindex
X-PUBLISHED-TTL:PT1H
BEGIN:VTIMEZONE
TZID:America/New_York
BEGIN:DAYLIGHT
TZOFFSETFROM:-0500
TZOFFSETTO:-0400
TZNAME:EDT
DTSTART:20230312T070000
END:DAYLIGHT
BEGIN:STANDARD
TZOFFSETFROM:-0400
TZOFFSETTO:-0500
TZNAME:EST
DTSTART:20231105T060000
END:STANDARD
BEGIN:DAYLIGHT
TZOFFSETFROM:-0500
TZOFFSETTO:-0400
TZNAME:EDT
DTSTART:20240310T070000
END:DAYLIGHT
BEGIN:STANDARD
TZOFFSETFROM:-0400
TZOFFSETTO:-0500
TZNAME:EST
DTSTART:20241103T060000
END:STANDARD
BEGIN:DAYLIGHT
TZOFFSETFROM:-0500
TZOFFSETTO:-0400
TZNAME:EDT
DTSTART:20250309T070000
END:DAYLIGHT
BEGIN:STANDARD
TZOFFSETFROM:-0400
TZOFFSETTO:-0500
TZNAME:EST
DTSTART:20251102T060000
END:STANDARD
END:VTIMEZONE
BEGIN:VEVENT
DTSTART;TZID=America/New_York:20241001T090000
DTEND;TZID=America/New_York:20241001T140000
DTSTAMP:20260424T011859
CREATED:20240923T152440Z
LAST-MODIFIED:20240923T152440Z
UID:10000103-1727773200-1727791200@www.charmcitywineschool.com
SUMMARY:TiPS 10/1/24
DESCRIPTION:TiPS Qualification Aims\nProven effective by third-party studies\, TiPS is a skills-based\, 100% live responsible alcohol training and certification program that is designed to prevent intoxication\, underage drinking\, and drunk driving by enhancing the fundamental “people skills” of servers\, sellers and consumers of alcohol. TiPS gives individuals the knowledge and confidence they need to recognize potential alcohol-related problems and intervene to prevent alcohol-related tragedies.
URL:https://www.charmcitywineschool.com/calendar/tips-10-1-24/
LOCATION:Charm City Wine School\, 6505 York Road\, Towson\, MD\, 21212\, United States
CATEGORIES:TiPS
ATTACH;FMTTYPE=image/jpeg:https://www.charmcitywineschool.com/wp-content/uploads/2022/10/Maryland-Training-for-Intervention-ProcedureS.jpg
ORGANIZER;CN="Tim O'Hare":MAILTO:tim@charmcitywineschool.com
END:VEVENT
BEGIN:VEVENT
DTSTART;TZID=America/New_York:20241003T180000
DTEND;TZID=America/New_York:20241003T210000
DTSTAMP:20260424T011859
CREATED:20240912T165454Z
LAST-MODIFIED:20240912T171134Z
UID:10000100-1727978400-1727989200@www.charmcitywineschool.com
SUMMARY:WSET L2 Awards in Spirits\, starting 09/19/24
DESCRIPTION:Level 2 Award in Spirits Qualification Aims\nA beginner to intermediate level qualification exploring spirits and liqueurs for those working in the industry or spirits enthusiasts.For individuals wishing to develop their expertise in spirits and liqueurs\, you’ll learn about the fundamental production methods and principal raw materials discovering how they are used to make the key spirit styles. You’ll also explore the key practices and principles of serving spirits and the use of spirits in cocktails. Upon successful completion\, you will receive a WSET certificate and lapel pin and will be able to use the associated WSET certified logo. \nWhat You Will Learn\nHow production methods affect the characteristics of spirits and liqueurs\nThe characteristics of the principal international spirits and liqueurs\nHow to describe spirits using the WSET Level 2 Systematic Approach to Tasting Spirits®(SAT) \nThe Total Qualification Time for the Level 2 Award in Spirits is 26 hours. There are 15 Guided Learning Hours (including the 1-hour examination) and 11 hours of private study.
URL:https://www.charmcitywineschool.com/calendar/wset-l2-awards-in-spirits-starting-09-19-24-2/2024-10-03/
LOCATION:Charm City Wine School\, 6505 York Road\, Towson\, MD\, 21212\, United States
CATEGORIES:WSET Certification
ATTACH;FMTTYPE=image/jpeg:https://www.charmcitywineschool.com/wp-content/uploads/2022/10/Back-Bar.jpg
ORGANIZER;CN="Tim O'Hare":MAILTO:tim@charmcitywineschool.com
END:VEVENT
BEGIN:VEVENT
DTSTART;TZID=America/New_York:20241008T183000
DTEND;TZID=America/New_York:20241008T200000
DTSTAMP:20260424T011859
CREATED:20240729T031031Z
LAST-MODIFIED:20240729T031031Z
UID:10000090-1728412200-1728417600@www.charmcitywineschool.com
SUMMARY:Take a Chance on Me!
DESCRIPTION:Wine 101:  Take a Chance on Me! \nI Never Heard of THAT Wine Before…\nThis tasting is solely about wines no one has even heard of before. There is no rhyme or reason or systematic nature to this tasting theme–you just have to bring your curiosity and interest in trying something new. As a bonus\, we will play the Top Hits from the musical group ABBA\, fun! \nOur classes always sell out fast\, so don’t miss out and make your reservations soon!
URL:https://www.charmcitywineschool.com/calendar/take-a-chance-on-me/
LOCATION:Charm City Wine School\, 6505 York Road\, Towson\, MD\, 21212\, United States
CATEGORIES:Tastings
ATTACH;FMTTYPE=image/png:https://www.charmcitywineschool.com/wp-content/uploads/2024/07/ABBA-Take-a-Chance-on-Me-Banner.png
ORGANIZER;CN="Tim O'Hare":MAILTO:tim@charmcitywineschool.com
END:VEVENT
BEGIN:VEVENT
DTSTART;TZID=America/New_York:20241010T180000
DTEND;TZID=America/New_York:20241010T210000
DTSTAMP:20260424T011859
CREATED:20240912T165454Z
LAST-MODIFIED:20240912T171134Z
UID:10000101-1728583200-1728594000@www.charmcitywineschool.com
SUMMARY:WSET L2 Awards in Spirits\, starting 09/19/24
DESCRIPTION:Level 2 Award in Spirits Qualification Aims\nA beginner to intermediate level qualification exploring spirits and liqueurs for those working in the industry or spirits enthusiasts.For individuals wishing to develop their expertise in spirits and liqueurs\, you’ll learn about the fundamental production methods and principal raw materials discovering how they are used to make the key spirit styles. You’ll also explore the key practices and principles of serving spirits and the use of spirits in cocktails. Upon successful completion\, you will receive a WSET certificate and lapel pin and will be able to use the associated WSET certified logo. \nWhat You Will Learn\nHow production methods affect the characteristics of spirits and liqueurs\nThe characteristics of the principal international spirits and liqueurs\nHow to describe spirits using the WSET Level 2 Systematic Approach to Tasting Spirits®(SAT) \nThe Total Qualification Time for the Level 2 Award in Spirits is 26 hours. There are 15 Guided Learning Hours (including the 1-hour examination) and 11 hours of private study.
URL:https://www.charmcitywineschool.com/calendar/wset-l2-awards-in-spirits-starting-09-19-24-2/2024-10-10/
LOCATION:Charm City Wine School\, 6505 York Road\, Towson\, MD\, 21212\, United States
CATEGORIES:WSET Certification
ATTACH;FMTTYPE=image/jpeg:https://www.charmcitywineschool.com/wp-content/uploads/2022/10/Back-Bar.jpg
ORGANIZER;CN="Tim O'Hare":MAILTO:tim@charmcitywineschool.com
END:VEVENT
BEGIN:VEVENT
DTSTART;TZID=America/New_York:20241012T090000
DTEND;TZID=America/New_York:20241012T140000
DTSTAMP:20260424T011859
CREATED:20240702T181852Z
LAST-MODIFIED:20240702T181937Z
UID:10000079-1728723600-1728741600@www.charmcitywineschool.com
SUMMARY:TiPS 10/12/24
DESCRIPTION:TiPS Qualification Aims\nProven effective by third-party studies\, TiPS is a skills-based\, 100% live responsible alcohol training and certification program that is designed to prevent intoxication\, underage drinking\, and drunk driving by enhancing the fundamental “people skills” of servers\, sellers and consumers of alcohol. TiPS gives individuals the knowledge and confidence they need to recognize potential alcohol-related problems and intervene to prevent alcohol-related tragedies.
URL:https://www.charmcitywineschool.com/calendar/tips-10-12-24/
LOCATION:Charm City Wine School\, 6505 York Road\, Towson\, MD\, 21212\, United States
CATEGORIES:TiPS
ATTACH;FMTTYPE=image/jpeg:https://www.charmcitywineschool.com/wp-content/uploads/2022/10/Maryland-Training-for-Intervention-ProcedureS.jpg
ORGANIZER;CN="Tim O'Hare":MAILTO:tim@charmcitywineschool.com
END:VEVENT
BEGIN:VEVENT
DTSTART;TZID=America/New_York:20241017T180000
DTEND;TZID=America/New_York:20241017T210000
DTSTAMP:20260424T011859
CREATED:20240912T165454Z
LAST-MODIFIED:20240912T171134Z
UID:10000102-1729188000-1729198800@www.charmcitywineschool.com
SUMMARY:WSET L2 Awards in Spirits\, starting 09/19/24
DESCRIPTION:Level 2 Award in Spirits Qualification Aims\nA beginner to intermediate level qualification exploring spirits and liqueurs for those working in the industry or spirits enthusiasts.For individuals wishing to develop their expertise in spirits and liqueurs\, you’ll learn about the fundamental production methods and principal raw materials discovering how they are used to make the key spirit styles. You’ll also explore the key practices and principles of serving spirits and the use of spirits in cocktails. Upon successful completion\, you will receive a WSET certificate and lapel pin and will be able to use the associated WSET certified logo. \nWhat You Will Learn\nHow production methods affect the characteristics of spirits and liqueurs\nThe characteristics of the principal international spirits and liqueurs\nHow to describe spirits using the WSET Level 2 Systematic Approach to Tasting Spirits®(SAT) \nThe Total Qualification Time for the Level 2 Award in Spirits is 26 hours. There are 15 Guided Learning Hours (including the 1-hour examination) and 11 hours of private study.
URL:https://www.charmcitywineschool.com/calendar/wset-l2-awards-in-spirits-starting-09-19-24-2/2024-10-17/
LOCATION:Charm City Wine School\, 6505 York Road\, Towson\, MD\, 21212\, United States
CATEGORIES:WSET Certification
ATTACH;FMTTYPE=image/jpeg:https://www.charmcitywineschool.com/wp-content/uploads/2022/10/Back-Bar.jpg
ORGANIZER;CN="Tim O'Hare":MAILTO:tim@charmcitywineschool.com
END:VEVENT
BEGIN:VEVENT
DTSTART;TZID=America/New_York:20241018T183000
DTEND;TZID=America/New_York:20241018T200000
DTSTAMP:20260424T011859
CREATED:20240703T202950Z
LAST-MODIFIED:20240706T213350Z
UID:10000086-1729276200-1729281600@www.charmcitywineschool.com
SUMMARY:Greek Wines
DESCRIPTION:Wine 101: Greek Wines\, Yeah\, They’re All Greek to Me! \nThere are a lot of great wines from around the world and Greece is no different.  We will explore some different varietals that you may not have heard of that are unbelievable values and will sure to be a hit with you\, your friends\, and family.
URL:https://www.charmcitywineschool.com/calendar/greek-wines/
LOCATION:Charm City Wine School\, 6505 York Road\, Towson\, MD\, 21212\, United States
CATEGORIES:Tastings
ATTACH;FMTTYPE=image/jpeg:https://www.charmcitywineschool.com/wp-content/uploads/2024/07/Wine-and-Greek-Statues.jpeg
ORGANIZER;CN="Tim O'Hare":MAILTO:tim@charmcitywineschool.com
END:VEVENT
BEGIN:VEVENT
DTSTART;TZID=America/New_York:20241024T183000
DTEND;TZID=America/New_York:20241024T200000
DTSTAMP:20260424T011859
CREATED:20240703T202700Z
LAST-MODIFIED:20240724T145011Z
UID:10000085-1729794600-1729800000@www.charmcitywineschool.com
SUMMARY:Which is Witch?
DESCRIPTION:Wine 101: Which is Witch?  Perfect for Hallowe’en! \nJoin us on October 24th as we take a tour exploring and tasting wines from France and California to better understand the nuances between New World and Old World varietals.  This event is going to be a bewitchingly fun evening\, without any spells casting negative influence on your taste buds! \nThis event was so popular last year a 2nd class was added.  Act now!
URL:https://www.charmcitywineschool.com/calendar/which-is-witch/
LOCATION:Charm City Wine School\, 6505 York Road\, Towson\, MD\, 21212\, United States
CATEGORIES:Tastings
ATTACH;FMTTYPE=image/jpeg:https://www.charmcitywineschool.com/wp-content/uploads/2022/10/Flight-of-Wine-i-n-Glasses.jpg
ORGANIZER;CN="Tim O'Hare":MAILTO:tim@charmcitywineschool.com
END:VEVENT
BEGIN:VEVENT
DTSTART;TZID=America/New_York:20241026T083000
DTEND;TZID=America/New_York:20241026T150000
DTSTAMP:20260424T011859
CREATED:20240802T185747Z
LAST-MODIFIED:20240802T185747Z
UID:10000097-1729931400-1729954800@www.charmcitywineschool.com
SUMMARY:Level 1 Award in Wines - Oct 26\, 2024
DESCRIPTION:Level 1 Award in Wines Qualification Aims \nThe WSET Level 1 Award in Wines is intended for people who have little or no prior knowledge of wines. It is designed to provide a sound but simple introduction to wines. The qualification will assist those who need a basic familiarity with the main types and styles of wines\, for example people who work with wines as part of a larger beverage portfolio in the retail and hospitality sectors. \nWhat You Will Learn\nSuccessful candidates will be able to know the key stages in grape growing and winemaking\, list the principal types and styles of wine\, state the key characteristics of wines made from the principal grape varieties as well as other examples of wines\, and know the key principles involved in the storage and service of wine. They will consequently be in a position to answer customer queries and provide recommendations for the service of wine.
URL:https://www.charmcitywineschool.com/calendar/level-1-award-in-wines-oct-26-2024/
LOCATION:Charm City Wine School\, 6505 York Road\, Towson\, MD\, 21212\, United States
CATEGORIES:WSET Certification
ATTACH;FMTTYPE=image/jpeg:https://www.charmcitywineschool.com/wp-content/uploads/2022/09/Main-Pic-from-vinyard.jpg
ORGANIZER;CN="Tim O'Hare":MAILTO:tim@charmcitywineschool.com
END:VEVENT
END:VCALENDAR