BEGIN:VCALENDAR
VERSION:2.0
PRODID:-//Charm City Wine School - ECPv6.15.20//NONSGML v1.0//EN
CALSCALE:GREGORIAN
METHOD:PUBLISH
X-ORIGINAL-URL:https://www.charmcitywineschool.com
X-WR-CALDESC:Events for Charm City Wine School
REFRESH-INTERVAL;VALUE=DURATION:PT1H
X-Robots-Tag:noindex
X-PUBLISHED-TTL:PT1H
BEGIN:VTIMEZONE
TZID:America/New_York
BEGIN:DAYLIGHT
TZOFFSETFROM:-0500
TZOFFSETTO:-0400
TZNAME:EDT
DTSTART:20230312T070000
END:DAYLIGHT
BEGIN:STANDARD
TZOFFSETFROM:-0400
TZOFFSETTO:-0500
TZNAME:EST
DTSTART:20231105T060000
END:STANDARD
BEGIN:DAYLIGHT
TZOFFSETFROM:-0500
TZOFFSETTO:-0400
TZNAME:EDT
DTSTART:20240310T070000
END:DAYLIGHT
BEGIN:STANDARD
TZOFFSETFROM:-0400
TZOFFSETTO:-0500
TZNAME:EST
DTSTART:20241103T060000
END:STANDARD
BEGIN:DAYLIGHT
TZOFFSETFROM:-0500
TZOFFSETTO:-0400
TZNAME:EDT
DTSTART:20250309T070000
END:DAYLIGHT
BEGIN:STANDARD
TZOFFSETFROM:-0400
TZOFFSETTO:-0500
TZNAME:EST
DTSTART:20251102T060000
END:STANDARD
END:VTIMEZONE
BEGIN:VEVENT
DTSTART;TZID=America/New_York:20241206T183000
DTEND;TZID=America/New_York:20241206T200000
DTSTAMP:20260422T230837
CREATED:20240729T032831Z
LAST-MODIFIED:20240729T032831Z
UID:10000096-1733509800-1733515200@www.charmcitywineschool.com
SUMMARY:Spain & Spanish Wine
DESCRIPTION:Wine 101: Spain and Spanish Wine \nSpanish wine is the most popular on the planet\, according to the latest international export figures\, but few of the country’s vineyard owners will raise a glass to that news; on average their vintages fetch less than a third of the price of those sold abroad by France. Spain is also the world’s second-largest exporter of wine in volume and third\, in value. \nWe will taste 4 wines that will grow your appreciation of these Spanish treasures and also show you what you’ve been missing from one of the world’s best-kept secrets. \nOur classes sell out fast\, so don’t miss out and make your reservations soon!
URL:https://www.charmcitywineschool.com/calendar/spain-spanish-wine/
LOCATION:Charm City Wine School\, 6505 York Road\, Towson\, MD\, 21212\, United States
CATEGORIES:Tastings
ATTACH;FMTTYPE=image/jpeg:https://www.charmcitywineschool.com/wp-content/uploads/2022/10/Italian-Vineyard.jpg
ORGANIZER;CN="Tim O'Hare":MAILTO:tim@charmcitywineschool.com
END:VEVENT
BEGIN:VEVENT
DTSTART;TZID=America/New_York:20241206T183000
DTEND;TZID=America/New_York:20241206T200000
DTSTAMP:20260422T230837
CREATED:20260321T145607Z
LAST-MODIFIED:20260321T145607Z
UID:10000591-1733509800-1733515200@www.charmcitywineschool.com
SUMMARY:Spain for Beginners
DESCRIPTION:Wine 101: Spain for Beginners \nSpanish wine is the most popular on the planet\, according to the latest international export figures\, but few of the country’s vineyard owners will raise a glass to that news; on average their vintages fetch less than a third of the price of those sold abroad by France. Spain is also the world’s second-largest exporter of wine in volume and third\, in value. \nWe will taste 4 wines that will grow your appreciation of these Spanish treasures and also show you what you’ve been missing from one of the world’s best-kept secrets. \nOur classes sell out fast\, so don’t miss out and make your reservations soon!
URL:https://www.charmcitywineschool.com/calendar/spain-for-beginners/
LOCATION:Charm City Wine School\, 6505 York Road\, Towson\, MD\, 21212\, United States
CATEGORIES:Tastings
ATTACH;FMTTYPE=image/jpeg:https://www.charmcitywineschool.com/wp-content/uploads/2022/10/Italian-Vineyard.jpg
ORGANIZER;CN="Tim O'Hare":MAILTO:tim@charmcitywineschool.com
END:VEVENT
BEGIN:VEVENT
DTSTART;TZID=America/New_York:20241212T183000
DTEND;TZID=America/New_York:20241212T200000
DTSTAMP:20260422T230837
CREATED:20240703T201902Z
LAST-MODIFIED:20241125T215659Z
UID:10000082-1734028200-1734033600@www.charmcitywineschool.com
SUMMARY:Chocolate and Wine Day -- SOLD OUT!
DESCRIPTION:Wine 101:  Chocolate and Wine Day – Say Yay! \nIn this class\, we will offer a wine and chocolate-tasting experience that is a fun theme for girls’ nights out\, bridal showers\, birthday parties\, retirement parties\, and even business events. This pairing event will give you a chance to enjoy something new while learning about how different chocolates pair with particular styles of wine. This program will certainly leave you with a smile on your face and something you will talk about with your friends and for planning your next fun at-home gathering event.
URL:https://www.charmcitywineschool.com/calendar/chocolate-and-wine-day/
LOCATION:Charm City Wine School\, 6505 York Road\, Towson\, MD\, 21212\, United States
CATEGORIES:Tastings
ATTACH;FMTTYPE=image/jpeg:https://www.charmcitywineschool.com/wp-content/uploads/2022/11/Wine-and-chocolate-1.jpg
ORGANIZER;CN="Tim O'Hare":MAILTO:tim@charmcitywineschool.com
END:VEVENT
BEGIN:VEVENT
DTSTART;TZID=America/New_York:20241218T183000
DTEND;TZID=America/New_York:20241218T200000
DTSTAMP:20260422T230837
CREATED:20240729T032322Z
LAST-MODIFIED:20240912T174639Z
UID:10000095-1734546600-1734552000@www.charmcitywineschool.com
SUMMARY:Wine & Wisdom Trivia!
DESCRIPTION:Wine 101:  Wine & Wisdom Trivia Night! \nJoin us for Wednesday Wine & Wisdom with Old World Wines (France\, Spain\, Germany\, Italy) while you think and drink with friends while making new ones. The Charm City Wine School offers fun\, engaging\, and interactive classes\, and this program is sure to be one of them. Test your knowledge on such topics as sports\, history\, geography\, food & wine\, and much much more. Between each round of trivia\, Tim O’Hare will walk you through the wines being served that night and talk about how to pair them with appetizers\, cheeses\, and entrees. Also\, the wines being presented will be offered at a 10% discount courtesy of Well’s Discount Liquors. \nOur classes always sell out fast\, so don’t miss out and make your reservations soon!
URL:https://www.charmcitywineschool.com/calendar/wine-wisdom-4/
LOCATION:Charm City Wine School\, 6505 York Road\, Towson\, MD\, 21212\, United States
CATEGORIES:Tastings
ATTACH;FMTTYPE=image/png:https://www.charmcitywineschool.com/wp-content/uploads/2024/07/Wine-and-Wisdom.png
ORGANIZER;CN="Tim O'Hare":MAILTO:tim@charmcitywineschool.com
END:VEVENT
END:VCALENDAR