BEGIN:VCALENDAR
VERSION:2.0
PRODID:-//Charm City Wine School - ECPv6.15.20//NONSGML v1.0//EN
CALSCALE:GREGORIAN
METHOD:PUBLISH
X-ORIGINAL-URL:https://www.charmcitywineschool.com
X-WR-CALDESC:Events for Charm City Wine School
REFRESH-INTERVAL;VALUE=DURATION:PT1H
X-Robots-Tag:noindex
X-PUBLISHED-TTL:PT1H
BEGIN:VTIMEZONE
TZID:America/New_York
BEGIN:DAYLIGHT
TZOFFSETFROM:-0500
TZOFFSETTO:-0400
TZNAME:EDT
DTSTART:20240310T070000
END:DAYLIGHT
BEGIN:STANDARD
TZOFFSETFROM:-0400
TZOFFSETTO:-0500
TZNAME:EST
DTSTART:20241103T060000
END:STANDARD
BEGIN:DAYLIGHT
TZOFFSETFROM:-0500
TZOFFSETTO:-0400
TZNAME:EDT
DTSTART:20250309T070000
END:DAYLIGHT
BEGIN:STANDARD
TZOFFSETFROM:-0400
TZOFFSETTO:-0500
TZNAME:EST
DTSTART:20251102T060000
END:STANDARD
BEGIN:DAYLIGHT
TZOFFSETFROM:-0500
TZOFFSETTO:-0400
TZNAME:EDT
DTSTART:20260308T070000
END:DAYLIGHT
BEGIN:STANDARD
TZOFFSETFROM:-0400
TZOFFSETTO:-0500
TZNAME:EST
DTSTART:20261101T060000
END:STANDARD
END:VTIMEZONE
BEGIN:VEVENT
DTSTART;TZID=America/New_York:20250118T090000
DTEND;TZID=America/New_York:20250118T150000
DTSTAMP:20260421T203854
CREATED:20250102T191740Z
LAST-MODIFIED:20250115T032314Z
UID:10000246-1737190800-1737212400@www.charmcitywineschool.com
SUMMARY:WSET Level 1 Award in Wines
DESCRIPTION:Level 1 Award in Wines Qualification Aims  \nThe WSET Level 1 Award in Wines is intended for people who have little or no prior knowledge of wines. It is designed to provide a sound but simple introduction to wines. The qualification will assist those who need a basic familiarity with the main types and styles of wines\, for example people who work with wines as part of a larger beverage portfolio in the retail and hospitality sectors. \nWhat You Will Learn\nSuccessful candidates will be able to know the key stages in grape growing and winemaking\, list the principal types and styles of wine\, state the key characteristics of wines made from the principal grape varieties as well as other examples of wines\, and know the key principles involved in the storage and service of wine. They will consequently be in a position to answer customer queries and provide recommendations for the service of wine. \nThis is the 1-day version (on Saturdays).  Also offered are 2-day options (Wednesdays\, over two consecutive weeks)  For either option\, this course culminates in a 1-hour exam.
URL:https://www.charmcitywineschool.com/calendar/wset-level-1-award-in-wines-2/2025-01-18/
LOCATION:Charm City Wine School\, 6505 York Road\, Towson\, MD\, 21212\, United States
CATEGORIES:WSET Certification
ATTACH;FMTTYPE=image/jpeg:https://www.charmcitywineschool.com/wp-content/uploads/2022/09/Main-Pic-from-vinyard.jpg
ORGANIZER;CN="Tim O'Hare":MAILTO:tim@charmcitywineschool.com
END:VEVENT
BEGIN:VEVENT
DTSTART;TZID=America/New_York:20250124T183000
DTEND;TZID=America/New_York:20250124T200000
DTSTAMP:20260421T203854
CREATED:20241221T231913Z
LAST-MODIFIED:20241221T232456Z
UID:10000120-1737743400-1737748800@www.charmcitywineschool.com
SUMMARY:Fun Friday Chips & Sips - A Super Bowl Game Plan!
DESCRIPTION:Wine 101:  Fun Friday Chips & Sips – A Super Bowl Game Plan! \nJoin us for another Wonderful Wine 101 Tasting Event pairing your favorite chips with popular wines while you think and drink with friends while making new ones.  Your palette will be pleased as punch! \nRegister NOW!  (Click Here) \nThe Charm City Wine School offers fun\, engaging\, and interactive classes\, and this program is sure to be one of them. Test your knowledge on such topics as sports\, history\, geography\, food & wine\, and much much more. Between each round of trivia\, Tim O’Hare will walk you through the wines being served that night and talk about how to pair them with appetizers\, cheeses\, and entrees. Also\, the wines being presented will be offered at a 10% discount courtesy of Well’s Discount Liquors.
URL:https://www.charmcitywineschool.com/calendar/fun-friday-chips-sips-a-super-bowl-game-plan/
LOCATION:Charm City Wine School\, 6505 York Road\, Towson\, MD\, 21212\, United States
CATEGORIES:Tastings
ATTACH;FMTTYPE=image/jpeg:https://www.charmcitywineschool.com/wp-content/uploads/2024/12/for-Chips-Sips-1.jpg
ORGANIZER;CN="Tim O'Hare":MAILTO:tim@charmcitywineschool.com
END:VEVENT
BEGIN:VEVENT
DTSTART;TZID=America/New_York:20250128T183000
DTEND;TZID=America/New_York:20250128T200000
DTSTAMP:20260421T203854
CREATED:20241217T062601Z
LAST-MODIFIED:20241217T204126Z
UID:10000113-1738089000-1738094400@www.charmcitywineschool.com
SUMMARY:Take A Chance On Me Tuesdays:  Anything But Chardonnay
DESCRIPTION:Take A Chance On Me Tuesdays:  Anything But Chardonnay \nThere are a lot of great wines from around the world and we will explore some different varietals that you may not have heard of that are unbelievable values and will sure to be a hit with you\, your friends\, and family.
URL:https://www.charmcitywineschool.com/calendar/take-a-chance-on-me-tuesdays-anything-but-chardonnay/
LOCATION:Charm City Wine School\, 6505 York Road\, Towson\, MD\, 21212\, United States
CATEGORIES:Tastings
ATTACH;FMTTYPE=image/jpeg:https://www.charmcitywineschool.com/wp-content/uploads/2020/09/tasting-unsplash-scaled.jpg
ORGANIZER;CN="Tim O'Hare":MAILTO:tim@charmcitywineschool.com
END:VEVENT
BEGIN:VEVENT
DTSTART;TZID=America/New_York:20250129T180000
DTEND;TZID=America/New_York:20250129T210000
DTSTAMP:20260421T203854
CREATED:20250102T192544Z
LAST-MODIFIED:20250102T193047Z
UID:10000180-1738173600-1738184400@www.charmcitywineschool.com
SUMMARY:WSET Level 1 Award in Wines
DESCRIPTION:Level 1 Award in Wines Qualification Aims  \nThe WSET Level 1 Award in Wines is intended for people who have little or no prior knowledge of wines. It is designed to provide a sound but simple introduction to wines. The qualification will assist those who need a basic familiarity with the main types and styles of wines\, for example people who work with wines as part of a larger beverage portfolio in the retail and hospitality sectors. \nWhat You Will Learn\nSuccessful candidates will be able to know the key stages in grape growing and winemaking\, list the principal types and styles of wine\, state the key characteristics of wines made from the principal grape varieties as well as other examples of wines\, and know the key principles involved in the storage and service of wine. They will consequently be in a position to answer customer queries and provide recommendations for the service of wine. \nThis is the 1-day version (on Saturdays).  Also offered are 2-day options (Wednesdays\, over two consecutive weeks).  For either option\, this course culminates in a 1-hour exam.
URL:https://www.charmcitywineschool.com/calendar/wset-level-1-award-in-wines-3/2025-01-29/
LOCATION:MD
END:VEVENT
BEGIN:VEVENT
DTSTART;TZID=America/New_York:20250129T180000
DTEND;TZID=America/New_York:20250129T210000
DTSTAMP:20260421T203854
CREATED:20250305T051147Z
LAST-MODIFIED:20250305T051911Z
UID:10000248-1738173600-1738184400@www.charmcitywineschool.com
SUMMARY:WSET Level 1 Award in Wines
DESCRIPTION:Level 1 Award in Wines Qualification Aims  \nThe WSET Level 1 Award in Wines is intended for people who have little or no prior knowledge of wines. It is designed to provide a sound but simple introduction to wines. The qualification will assist those who need a basic familiarity with the main types and styles of wines\, for example people who work with wines as part of a larger beverage portfolio in the retail and hospitality sectors. \nWhat You Will Learn\nSuccessful candidates will be able to know the key stages in grape growing and winemaking\, list the principal types and styles of wine\, state the key characteristics of wines made from the principal grape varieties as well as other examples of wines\, and know the key principles involved in the storage and service of wine. They will consequently be in a position to answer customer queries and provide recommendations for the service of wine. \nThis is the 1-day version (on Saturdays).  Also offered are 2-day options (Wednesdays\, over two consecutive weeks).  For either option\, this course culminates in a 1-hour exam.
URL:https://www.charmcitywineschool.com/calendar/wset-level-1-award-in-wines-4/2025-01-29/
LOCATION:MD
ATTACH;FMTTYPE=image/jpeg:https://www.charmcitywineschool.com/wp-content/uploads/2022/09/Main-Pic-from-vinyard.jpg
END:VEVENT
END:VCALENDAR