BEGIN:VCALENDAR
VERSION:2.0
PRODID:-//Charm City Wine School - ECPv6.15.20//NONSGML v1.0//EN
CALSCALE:GREGORIAN
METHOD:PUBLISH
X-WR-CALNAME:Charm City Wine School
X-ORIGINAL-URL:https://www.charmcitywineschool.com
X-WR-CALDESC:Events for Charm City Wine School
REFRESH-INTERVAL;VALUE=DURATION:PT1H
X-Robots-Tag:noindex
X-PUBLISHED-TTL:PT1H
BEGIN:VTIMEZONE
TZID:America/New_York
BEGIN:DAYLIGHT
TZOFFSETFROM:-0500
TZOFFSETTO:-0400
TZNAME:EDT
DTSTART:20240310T070000
END:DAYLIGHT
BEGIN:STANDARD
TZOFFSETFROM:-0400
TZOFFSETTO:-0500
TZNAME:EST
DTSTART:20241103T060000
END:STANDARD
BEGIN:DAYLIGHT
TZOFFSETFROM:-0500
TZOFFSETTO:-0400
TZNAME:EDT
DTSTART:20250309T070000
END:DAYLIGHT
BEGIN:STANDARD
TZOFFSETFROM:-0400
TZOFFSETTO:-0500
TZNAME:EST
DTSTART:20251102T060000
END:STANDARD
BEGIN:DAYLIGHT
TZOFFSETFROM:-0500
TZOFFSETTO:-0400
TZNAME:EDT
DTSTART:20260308T070000
END:DAYLIGHT
BEGIN:STANDARD
TZOFFSETFROM:-0400
TZOFFSETTO:-0500
TZNAME:EST
DTSTART:20261101T060000
END:STANDARD
END:VTIMEZONE
BEGIN:VEVENT
DTSTART;TZID=America/New_York:20250611T183000
DTEND;TZID=America/New_York:20250611T200000
DTSTAMP:20260425T194943
CREATED:20250519T173204Z
LAST-MODIFIED:20250609T122924Z
UID:10000453-1749666600-1749672000@www.charmcitywineschool.com
SUMMARY:Yanks vs Francs - the Judgement of Paris\, circa1976!
DESCRIPTION:Wine 101: Judgement of Paris – Yanks vs Francs \n\n\n\nThis presentation details the 1976 blind tasting between the upstart American wines from California and the vaunted French wines from Bordeaux and Burgundy. George Taber\, then the Times’ Paris correspondent covering the event\, stated that the French wines were going to win. He said that everyone thought “it’s going to be a non-story.” Taber did attend\, as a favor to the organizers. And he ended up getting the biggest story of his career: To everyone’s amazement\, the California wines — red and white — beat out their French competitors. \n“It turned out to be the most important event because it broke the myth that only in France could you make great wine. It opened the door for this phenomenon today of the globalization of wine\,” Taber says. The Judgment of Paris\, as that May 24\, 1976\, wine tasting has come to be known\, began as a publicity stunt. Steven Spurrier\, an Englishman who owned a wine shop in Paris\, wanted to drum up business. So\, prompted by Patricia Gastaud-Gallagher\, his American associate\, Spurrier decided to stage a competition that highlighted the new California wines they’d been hearing so much about. The Judgement of Paris is the subject of the 2008 movie\, “Bottle Shock.” \nIn this fact-filled and entertaining presentation\, Tim O’Hare\, Certified Sommelier will deliver a PowerPoint session and answer any of your questions. \nRegister NOW!  (Click Here)
URL:https://www.charmcitywineschool.com/calendar/yanks-vs-francs-the-judgement-of-paris-circa1976/
LOCATION:Charm City Wine School\, 6505 York Road\, Towson\, MD\, 21212\, United States
CATEGORIES:Tastings
ATTACH;FMTTYPE=image/jpeg:https://www.charmcitywineschool.com/wp-content/uploads/2023/03/Yanks-vs-Francs.jpg
ORGANIZER;CN="Tim O'Hare":MAILTO:tim@charmcitywineschool.com
END:VEVENT
BEGIN:VEVENT
DTSTART;TZID=America/New_York:20250619T183000
DTEND;TZID=America/New_York:20250619T200000
DTSTAMP:20260425T194943
CREATED:20250520T165337Z
LAST-MODIFIED:20250520T165458Z
UID:10000454-1750357800-1750363200@www.charmcitywineschool.com
SUMMARY:A Coppola Wines for You!
DESCRIPTION:Wine 101:  A Coppola Wines\, Capeesh?! \n“When we began to develop the idea for this winery\, we wanted it to be a wonderland…a place to celebrate the love of life.”\n— Francis Ford Coppola \nSo\, let’s celebrate and sample some of Coppola’s wines! \nRegister NOW!  (Click Here) \nThe Charm City Wine School offers fun\, engaging\, and interactive classes\, and this program is sure to be one of them. Test your knowledge on such topics as sports\, history\, geography\, food & wine\, and much much more. Between each round of trivia\, Tim O’Hare will walk you through the wines being served that night and talk about how to pair them with appetizers\, cheeses\, and entrees. Also\, the wines being presented will be offered at a 10% discount courtesy of Well’s Discount Liquors.
URL:https://www.charmcitywineschool.com/calendar/a-coppola-wines-for-you/
LOCATION:Charm City Wine School\, 6505 York Road\, Towson\, MD\, 21212\, United States
CATEGORIES:Tastings
ATTACH;FMTTYPE=image/jpeg:https://www.charmcitywineschool.com/wp-content/uploads/2025/05/Vinyard-for-Coppola.jpg
ORGANIZER;CN="Tim O'Hare":MAILTO:tim@charmcitywineschool.com
END:VEVENT
BEGIN:VEVENT
DTSTART;TZID=America/New_York:20250627T183000
DTEND;TZID=America/New_York:20250627T200000
DTSTAMP:20260425T194943
CREATED:20250520T172722Z
LAST-MODIFIED:20250520T172722Z
UID:10000455-1751049000-1751054400@www.charmcitywineschool.com
SUMMARY:Let's Go Prosecco!
DESCRIPTION:Wine 101:  Let’s Go Prosecco! \nJoin us for another Wonderful Wine 101 Tasting Event — Check out the world of Prosecco!  Light-bodied and refreshing\, this white sparkling wine is made from glera grapes in the village of Prosecco\, Italy. It’s dry with notes from tropical fruit to vanilla and honeycomb.  Your palette will be pleased as punch! \nRegister NOW!  (Click Here) \nThe Charm City Wine School offers fun\, engaging\, and interactive classes\, and this program is sure to be one of them. Test your knowledge on such topics as sports\, history\, geography\, food & wine\, and much much more. Between each round of trivia\, Tim O’Hare will walk you through the wines being served that night and talk about how to pair them with appetizers\, cheeses\, and entrees. Also\, the wines being presented will be offered at a 10% discount courtesy of Well’s Discount Liquors.
URL:https://www.charmcitywineschool.com/calendar/lets-go-prosecco/
LOCATION:Charm City Wine School\, 6505 York Road\, Towson\, MD\, 21212\, United States
CATEGORIES:Tastings
ATTACH;FMTTYPE=image/jpeg:https://www.charmcitywineschool.com/wp-content/uploads/2025/05/Prosecco-View.jpg
ORGANIZER;CN="Tim O'Hare":MAILTO:tim@charmcitywineschool.com
END:VEVENT
END:VCALENDAR