BEGIN:VCALENDAR
VERSION:2.0
PRODID:-//Charm City Wine School - ECPv6.15.20//NONSGML v1.0//EN
CALSCALE:GREGORIAN
METHOD:PUBLISH
X-ORIGINAL-URL:https://www.charmcitywineschool.com
X-WR-CALDESC:Events for Charm City Wine School
REFRESH-INTERVAL;VALUE=DURATION:PT1H
X-Robots-Tag:noindex
X-PUBLISHED-TTL:PT1H
BEGIN:VTIMEZONE
TZID:America/New_York
BEGIN:DAYLIGHT
TZOFFSETFROM:-0500
TZOFFSETTO:-0400
TZNAME:EDT
DTSTART:20240310T070000
END:DAYLIGHT
BEGIN:STANDARD
TZOFFSETFROM:-0400
TZOFFSETTO:-0500
TZNAME:EST
DTSTART:20241103T060000
END:STANDARD
BEGIN:DAYLIGHT
TZOFFSETFROM:-0500
TZOFFSETTO:-0400
TZNAME:EDT
DTSTART:20250309T070000
END:DAYLIGHT
BEGIN:STANDARD
TZOFFSETFROM:-0400
TZOFFSETTO:-0500
TZNAME:EST
DTSTART:20251102T060000
END:STANDARD
BEGIN:DAYLIGHT
TZOFFSETFROM:-0500
TZOFFSETTO:-0400
TZNAME:EDT
DTSTART:20260308T070000
END:DAYLIGHT
BEGIN:STANDARD
TZOFFSETFROM:-0400
TZOFFSETTO:-0500
TZNAME:EST
DTSTART:20261101T060000
END:STANDARD
END:VTIMEZONE
BEGIN:VEVENT
DTSTART;TZID=America/New_York:20251106T183000
DTEND;TZID=America/New_York:20251106T200000
DTSTAMP:20260421T013920
CREATED:20250713T194114Z
LAST-MODIFIED:20250713T194114Z
UID:10000502-1762453800-1762459200@www.charmcitywineschool.com
SUMMARY:Wine 101: Sommelier Confidential
DESCRIPTION:Unlock the Secrets of Wine Service & Culture!\n\n\n\n\n\n\n\n\n\n\n\n\nEver wanted to impress your guests\, charm your clients\, or just boost your own wine confidence?  Join us for Sommelier Confidential\, a fun and interactive class designed to give you the essential skills and insider knowledge of a professional sommelier. Whether you’re entertaining at home\, ordering wine at a fine restaurant\, or simply want to elevate your wine game\, this session has you covered. \nHere’s what you’ll learn:\n�� Wine & Food Pairing\n�� Proper Wine Temperatures\n�� Decanting – When & Why\n�� How to Read a Wine List with Confidence\n�� A Systematic Approach to Tasting & the Ideal Wine Tasting Order \nAnd MORE! And\, yes – there will be wine!  Your a guided tasting will include four curated wines. \nRegister NOW!  (Click Here) \nThe Charm City Wine School offers fun\, engaging\, and interactive classes\, and this program is sure to be one of them. Test your knowledge on such topics as sports\, history\, geography\, food & wine\, and much much more. Between each round of trivia\, Tim O’Hare will walk you through the wines being served that night and talk about how to pair them with appetizers\, cheeses\, and entrees. Also\, the wines being presented will be offered at a 10% discount courtesy of Well’s Discount Liquors.
URL:https://www.charmcitywineschool.com/calendar/wine-101-sommelier-confidential/
LOCATION:Charm City Wine School\, 6505 York Road\, Towson\, MD\, 21212\, United States
CATEGORIES:Tastings
ATTACH;FMTTYPE=image/jpeg:https://www.charmcitywineschool.com/wp-content/uploads/2023/03/Cork-Dork.jpg
ORGANIZER;CN="Tim O'Hare":MAILTO:tim@charmcitywineschool.com
END:VEVENT
BEGIN:VEVENT
DTSTART;TZID=America/New_York:20251112T183000
DTEND;TZID=America/New_York:20251112T200000
DTSTAMP:20260421T013920
CREATED:20250920T122607Z
LAST-MODIFIED:20250920T122607Z
UID:10000509-1762972200-1762977600@www.charmcitywineschool.com
SUMMARY:Bourbon for Certain
DESCRIPTION:Spirits 101: Bourbon for Certain\n \nThinking of your Father’s favorite spirit as a special gift this holiday season?  Come to the Charm City Wine where will taste some amazing Bourbons along with trying some delicious beef jerky. Bourbon is truly an American spirit with lots of history\, lore\, and tales\, which we will deliver on November 12th. This class is sure to sell out\, so please make your reservations early. \nAlso\, there are Gift Certificates available as well to give to your Dear Old Dad next month. \nThis Spirits 101 class will be held at the School Wednesday November 12th\, 2025  6:30 – 8:00 PM 
URL:https://www.charmcitywineschool.com/calendar/bourbon-for-certain/
LOCATION:Charm City Wine School\, 6505 York Road\, Towson\, MD\, 21212\, United States
CATEGORIES:Tastings
ATTACH;FMTTYPE=image/jpeg:https://www.charmcitywineschool.com/wp-content/uploads/2023/03/Bourbon.jpg
ORGANIZER;CN="Tim O'Hare":MAILTO:tim@charmcitywineschool.com
END:VEVENT
END:VCALENDAR